BEGIN:VCALENDAR
VERSION:2.0
PRODID:-//Unitarian Universalist Society of Schenectady - ECPv6.15.20//NONSGML v1.0//EN
CALSCALE:GREGORIAN
METHOD:PUBLISH
X-ORIGINAL-URL:https://uuschenectady.org
X-WR-CALDESC:Events for Unitarian Universalist Society of Schenectady
REFRESH-INTERVAL;VALUE=DURATION:PT1H
X-Robots-Tag:noindex
X-PUBLISHED-TTL:PT1H
BEGIN:VTIMEZONE
TZID:America/New_York
BEGIN:DAYLIGHT
TZOFFSETFROM:-0500
TZOFFSETTO:-0400
TZNAME:EDT
DTSTART:20240310T070000
END:DAYLIGHT
BEGIN:STANDARD
TZOFFSETFROM:-0400
TZOFFSETTO:-0500
TZNAME:EST
DTSTART:20241103T060000
END:STANDARD
BEGIN:DAYLIGHT
TZOFFSETFROM:-0500
TZOFFSETTO:-0400
TZNAME:EDT
DTSTART:20250309T070000
END:DAYLIGHT
BEGIN:STANDARD
TZOFFSETFROM:-0400
TZOFFSETTO:-0500
TZNAME:EST
DTSTART:20251102T060000
END:STANDARD
BEGIN:DAYLIGHT
TZOFFSETFROM:-0500
TZOFFSETTO:-0400
TZNAME:EDT
DTSTART:20260308T070000
END:DAYLIGHT
BEGIN:STANDARD
TZOFFSETFROM:-0400
TZOFFSETTO:-0500
TZNAME:EST
DTSTART:20261101T060000
END:STANDARD
END:VTIMEZONE
BEGIN:VEVENT
DTSTART;TZID=America/New_York:20250819T100000
DTEND;TZID=America/New_York:20250819T110000
DTSTAMP:20260424T074033
CREATED:20250817T135454Z
LAST-MODIFIED:20250817T140615Z
UID:10000676-1755597600-1755601200@uuschenectady.org
SUMMARY:Walk in the Central Park Woods with Green Sanctuary
DESCRIPTION:Join the Green Sanctuary Team for an ECOS walk in the Central Park woods. Learn about native trees\, shrubs\, and perennials\, invasive species that threaten the forest’s health\, and restoration efforts that you can help with this Fall. For details\, including where to meet\, see https://ecosny.org/ecos-event/fall-walk-central-park-schenectady-2/ .
URL:https://uuschenectady.org/event/walk-in-the-central-park-woods-with-green-sanctuary/
LOCATION:Schenectady Central Park\, 500 Iroquois Way\, Schenectady\, NY\, 12309\, United States
END:VEVENT
END:VCALENDAR