BEGIN:VCALENDAR
VERSION:2.0
PRODID:-//Unitarian Universalist Society of Schenectady - ECPv6.15.20//NONSGML v1.0//EN
CALSCALE:GREGORIAN
METHOD:PUBLISH
X-ORIGINAL-URL:https://uuschenectady.org
X-WR-CALDESC:Events for Unitarian Universalist Society of Schenectady
REFRESH-INTERVAL;VALUE=DURATION:PT1H
X-Robots-Tag:noindex
X-PUBLISHED-TTL:PT1H
BEGIN:VTIMEZONE
TZID:America/New_York
BEGIN:DAYLIGHT
TZOFFSETFROM:-0500
TZOFFSETTO:-0400
TZNAME:EDT
DTSTART:20250309T070000
END:DAYLIGHT
BEGIN:STANDARD
TZOFFSETFROM:-0400
TZOFFSETTO:-0500
TZNAME:EST
DTSTART:20251102T060000
END:STANDARD
BEGIN:DAYLIGHT
TZOFFSETFROM:-0500
TZOFFSETTO:-0400
TZNAME:EDT
DTSTART:20260308T070000
END:DAYLIGHT
BEGIN:STANDARD
TZOFFSETFROM:-0400
TZOFFSETTO:-0500
TZNAME:EST
DTSTART:20261101T060000
END:STANDARD
BEGIN:DAYLIGHT
TZOFFSETFROM:-0500
TZOFFSETTO:-0400
TZNAME:EDT
DTSTART:20270314T070000
END:DAYLIGHT
BEGIN:STANDARD
TZOFFSETFROM:-0400
TZOFFSETTO:-0500
TZNAME:EST
DTSTART:20271107T060000
END:STANDARD
END:VTIMEZONE
BEGIN:VEVENT
DTSTART;TZID=America/New_York:20260402T190000
DTEND;TZID=America/New_York:20260402T210000
DTSTAMP:20260423T194557
CREATED:20260331T204128Z
LAST-MODIFIED:20260331T204529Z
UID:10000747-1775156400-1775163600@uuschenectady.org
SUMMARY:Creative Thursdays
DESCRIPTION:Calling all handicrafters: if you knit\, crochet\, embroider\, do macrame\, beading\, counted cross stitch or even darn socks\, drop by the Fireplace Room on Thursday evenings! \nWe enjoy sharing company with artists of all types– adult colorers\, sketch artists\, zentangles and mandala makers\, water colorists\, if you can create it\, come! \nWe will meet Thursdays April 2nd\, 9th\, 16th and 23rd from 7:00 to 9:00 pm in the Fireplace room. We will take a breather April 30th\, then meet again all of the Thursdays in May! \nQuestions: Contact UUSS at info at uuschenectady dot org
URL:https://uuschenectady.org/event/creative-thursdays-2/2026-04-02/
LOCATION:Unitarian Universalist Society of Schenectady\, 1221 Wendell Ave\, Schenectady\, NY\, 12308
END:VEVENT
BEGIN:VEVENT
DTSTART;TZID=America/New_York:20260408T180000
DTEND;TZID=America/New_York:20260408T200000
DTSTAMP:20260423T194557
CREATED:20260331T163006Z
LAST-MODIFIED:20260407T203021Z
UID:10000740-1775671200-1775678400@uuschenectady.org
SUMMARY:The Gift of Seeds - An evening of Community\, Connection and Seeds!
DESCRIPTION:Over a year ago\, Fruition Seeds in Naples\, NY\, chose to shift away from consumerism and embrace gift economy practices. All flourishing is mutual\, as Robin Wall Kimmerer reminds us\, and seeds brilliantly embody this generosity\, creativity and care. \nJoin with members of the Survive and Thrive Team and Petra Page-Mann of Fruition Seeds to practice receiving hundreds of varieties of regionally adapted vegetable and flower seeds as gifts\, cultivating gift culture as well as community. Come ready to reflect\, connect and honor your gifts  as we all learn to amplify the gifts of community together. Expect puppets! And lots of seeds! And to come alive as we explore living in ways both old and new. Bring a friend and hunger to sow more fruitful futures for your family\, friends\, neighbors and strangers as well as all generations yet to come. \nQuestions? Contact UUSS at info at uuschenectady dot org or (518)374-4446.
URL:https://uuschenectady.org/event/the-gift-of-seeds-an-evening-of-community-connection-and-seeds/
LOCATION:Unitarian Universalist Society of Schenectady\, 1221 Wendell Ave\, Schenectady\, NY\, 12308
CATEGORIES:Green Sanctuary,Upcoming Event
END:VEVENT
BEGIN:VEVENT
DTSTART;TZID=America/New_York:20260409T190000
DTEND;TZID=America/New_York:20260409T210000
DTSTAMP:20260423T194557
CREATED:20260331T204128Z
LAST-MODIFIED:20260331T204529Z
UID:10000748-1775761200-1775768400@uuschenectady.org
SUMMARY:Creative Thursdays
DESCRIPTION:Calling all handicrafters: if you knit\, crochet\, embroider\, do macrame\, beading\, counted cross stitch or even darn socks\, drop by the Fireplace Room on Thursday evenings! \nWe enjoy sharing company with artists of all types– adult colorers\, sketch artists\, zentangles and mandala makers\, water colorists\, if you can create it\, come! \nWe will meet Thursdays April 2nd\, 9th\, 16th and 23rd from 7:00 to 9:00 pm in the Fireplace room. We will take a breather April 30th\, then meet again all of the Thursdays in May! \nQuestions: Contact UUSS at info at uuschenectady dot org
URL:https://uuschenectady.org/event/creative-thursdays-2/2026-04-09/
LOCATION:Unitarian Universalist Society of Schenectady\, 1221 Wendell Ave\, Schenectady\, NY\, 12308
END:VEVENT
BEGIN:VEVENT
DTSTART;TZID=America/New_York:20260410T180000
DTEND;TZID=America/New_York:20260410T200000
DTSTAMP:20260423T194557
CREATED:20260324T202048Z
LAST-MODIFIED:20260324T202151Z
UID:10000738-1775844000-1775851200@uuschenectady.org
SUMMARY:Crock-pot Creations Dinner
DESCRIPTION:What can you make with a crock pot? A main course like soup\, chili\, or gluten free pasta? A dessert or an appetizer or a yummy side dish? \nGet your creative on and join us April 10th at 6pm at UUSS in the dining room for a relaxing dinner with friends. If you don’t have a crock pot\, you can bring whatever you want or even just bring yourself. You are welcome to arrive any time after 5:30pm. \nClick here for the sign-up genius link. \nDon’t hesitate to contact UUSS at info at uuschenectady dot org  if you have any questions.
URL:https://uuschenectady.org/event/crock-pot-creations-dinner/
LOCATION:Unitarian Universalist Society of Schenectady\, 1221 Wendell Ave\, Schenectady\, NY\, 12308
END:VEVENT
BEGIN:VEVENT
DTSTART;TZID=America/New_York:20260416T190000
DTEND;TZID=America/New_York:20260416T210000
DTSTAMP:20260423T194557
CREATED:20260331T204128Z
LAST-MODIFIED:20260331T204529Z
UID:10000749-1776366000-1776373200@uuschenectady.org
SUMMARY:Creative Thursdays
DESCRIPTION:Calling all handicrafters: if you knit\, crochet\, embroider\, do macrame\, beading\, counted cross stitch or even darn socks\, drop by the Fireplace Room on Thursday evenings! \nWe enjoy sharing company with artists of all types– adult colorers\, sketch artists\, zentangles and mandala makers\, water colorists\, if you can create it\, come! \nWe will meet Thursdays April 2nd\, 9th\, 16th and 23rd from 7:00 to 9:00 pm in the Fireplace room. We will take a breather April 30th\, then meet again all of the Thursdays in May! \nQuestions: Contact UUSS at info at uuschenectady dot org
URL:https://uuschenectady.org/event/creative-thursdays-2/2026-04-16/
LOCATION:Unitarian Universalist Society of Schenectady\, 1221 Wendell Ave\, Schenectady\, NY\, 12308
END:VEVENT
BEGIN:VEVENT
DTSTART;TZID=America/New_York:20260418T100000
DTEND;TZID=America/New_York:20260418T120000
DTSTAMP:20260423T194557
CREATED:20260407T202711Z
LAST-MODIFIED:20260407T202711Z
UID:10000755-1776506400-1776513600@uuschenectady.org
SUMMARY:Gardens & Grounds Work Party
DESCRIPTION:As we prepare for our Mayfest CommUUnity Celebration on May 2\, we invite you to help get the UUSS gardens and grounds ready for our community and guests. \nThe Gardens Team has scheduled work parties on Saturday April 18 and Saturday April 25\, both from 10am until noon\, and anyone is welcome to join us. \nWe’ll be raking and mulching the planting beds on the patio\, the front plaza\, and at Waters House\, as well as cleaning up the grounds behind Waters House for kids’ activities. \nYou are encouraged to bring your own gardening gloves and rakes\, and we’ll also have some available. We should have an enjoyable time working together as we prepare our grounds to look their best! \nAny questions\, contact Ernie Hall or Mimi Katz by emailing info at uuschenectady dot org. Also\, if you’d like to be added to our Gardens Team mailing list\, please let Ernie and Mimi know.
URL:https://uuschenectady.org/event/gardens-grounds-work-party/2026-04-18/
LOCATION:Unitarian Universalist Society of Schenectady\, 1221 Wendell Ave\, Schenectady\, NY\, 12308
CATEGORIES:Upcoming Event
END:VEVENT
BEGIN:VEVENT
DTSTART;TZID=America/New_York:20260419T103000
DTEND;TZID=America/New_York:20260419T120000
DTSTAMP:20260423T194557
CREATED:20260318T001212Z
LAST-MODIFIED:20260407T202357Z
UID:10000736-1776594600-1776600000@uuschenectady.org
SUMMARY:Hudson Mohawk Cluster Service April 19\, 2026\, 10:30am (at UU Schenectady & on Zoom)
DESCRIPTION:Join with UUs from our congregations in Albany\, Catskills\, Glens Falls\, Saratoga Springs\, and Schenectady as we welcome Rev. Cathy Rion Starr from the Side With Love staff for a service of resilience and joy! \nThe worship will include participants from each of the five congregations and fabulous music featuring the combined choirs. All ages welcome. Childcare and Religious Education activities included for kids and youth. \nWorship will be followed by time for connection\, with potluck finger-food refreshments. \nWorkshop 12:15 pm — Undermining Pillars of Support: 4th Amendment Wedge Strategy \nHow do we prevent an authoritarian administration from becoming full-on fascism? In this workshop we’ll: \n\nreview ways to undermine Pillars of Support and practice strategic non-cooperation\,\nexplore how UUs can help grow networks of 4th Amendment Workplaces to help employers and workers understand their rights if ICE arrives\,\nprovide training and materials to recruit local businesses in this work and build relationship within your congregation and community.\n\nA movie will be offered for kids to watch during the workshop. \nFor more information\, contact UUSS at info at uuschenectady dot org
URL:https://uuschenectady.org/event/hudson-mohawk-cluster-service-april-19-2026-1030am-at-uu-schenectady-on-zoom/
LOCATION:Unitarian Universalist Society of Schenectady\, 1221 Wendell Ave\, Schenectady\, NY\, 12308
CATEGORIES:Upcoming Event
END:VEVENT
BEGIN:VEVENT
DTSTART;TZID=America/New_York:20260421T180000
DTEND;TZID=America/New_York:20260421T190000
DTSTAMP:20260423T194557
CREATED:20260331T203603Z
LAST-MODIFIED:20260331T203603Z
UID:10000741-1776794400-1776798000@uuschenectady.org
SUMMARY:Discussion of Marcie R. Rendon's book Murder on the Red River
DESCRIPTION:BIPOC Authors Book Group Discussion (Online) Tuesday\, April 21\, 2026 at 6 pm \nFor April\, travel to the river valley between North Dakota and Minnesota for a mystery with Murder on the Red River. written in 2017 by Marcie R. Rendon\, an Ojibwe Native American author. (320 pages) \nJoin us for the book discussion on Tuesday\, April 21\, 2026\, at 6 pm. For the link\, email Kat Wolfram at info at uuschenectady dot org. Also let Kat know if you have suggestions for novels\, historical fiction\, memoirs\, or books of poetry by BIPOC (Black\, Indigenous\, People of Color) authors. \nLooking ahead to May:\nThe Hotel on the Corner of Bitter and Sweet by Jamie Ford\, 2009 – 290 pages (Historical Fiction by a Chinese American author)
URL:https://uuschenectady.org/event/discussion-of-marcie-r-rendons-book-murder-on-the-red-river/
LOCATION:online
END:VEVENT
BEGIN:VEVENT
DTSTART;TZID=America/New_York:20260422T153000
DTEND;TZID=America/New_York:20260422T163000
DTSTAMP:20260423T194557
CREATED:20260331T203836Z
LAST-MODIFIED:20260331T203836Z
UID:10000742-1776871800-1776875400@uuschenectady.org
SUMMARY:Mid-Day Meditations
DESCRIPTION:Beginning April 22\, join UUSS member and mindfulness Buddhist practitioner Tamara Geveci for shared in-person meditation and mindfulness practice. \nAll are welcome for any or all of the spring sessions\, which will be held in the Emerson Room\, or maybe outside\, if the weather allows! \nThis will be a time of connection through guided meditative and mindfulness practices\, as well as quiet\, reflective meditation. No previous meditation experience necessary. \nSessions run 3:30 -4:30 PM on Wednesdays\, April 22 through May 20\, in the Emerson Room.
URL:https://uuschenectady.org/event/mid-day-meditations/2026-04-22/
LOCATION:Unitarian Universalist Society of Schenectady\, 1221 Wendell Ave\, Schenectady\, NY\, 12308
CATEGORIES:Upcoming Event
END:VEVENT
BEGIN:VEVENT
DTSTART;TZID=America/New_York:20260423T183000
DTEND;TZID=America/New_York:20260423T210000
DTSTAMP:20260423T194557
CREATED:20260330T172414Z
LAST-MODIFIED:20260407T193509Z
UID:10000739-1776969000-1776978000@uuschenectady.org
SUMMARY:Ukrainian Pysanky: A Visual Prayer
DESCRIPTION:On April 23\, 6:30-9pm\, Ukrainian Egg Artist Susan Malinchak Schmitt will offer a presentation on the art of Ukrainian Easter Eggs. \nSusan has been creating Pysanky (Ukrainian Easter eggs) for over 62 years. She was born in Passaic\, NJ and spent her childhood absorbing the rich culture and traditions of her Ukrainian heritage\, which is expressed through her designs. \nShe holds a Bachelor of Fine Arts degree from Caldwell University\, including a semester of independent study in batik and Pysanky. Her presentation will be about the history\, cultural traditions\, folktales\, Easter customs and the creative process behind the Pysanka. She will bring along some of her eggs to show us and will explain and demonstrate the process involved in creating these eggs. — All who identify as women are invited to come to EBWA (the Evening Branch of the Women’s Alliance) to hear about this interesting subject. \nWe will serve coffee\, tea\, and dessert before the program. We urge you to arrive by 6:30 pm for time to socialize before the program begins at 7 pm. Following the presentation\, there will be time for questions. Networking (when each person may share something of interest with the group) will begin around 8:15\, and the meeting will end no later than 9 pm. \nWhile reservations are not required\, in order to have some idea of how many people to expect\, it would be helpful if you would email Gabrielle Reals at ellegr3@gmail.com  by Tuesday\, April 21\, to let us know you are coming.  (If you forget to do this\, we urge you to come anyway!)  Those who have subscribed may attend the in-person meetings for free.  All others will be asked to contribute $5 toward our costs\, at the door. \nTo see the full calendar of EBWA programs for 2025-2026\, click HERE. \nLooking ahead: Our May 28th program will be “Zentangle: The Art of Meditative Line and Pattern Drawing\,” featuring Linda Fasano\, Certified Zentangle Teacher.
URL:https://uuschenectady.org/event/ukrainian-pysanky-a-visual-prayer/
LOCATION:Unitarian Universalist Society of Schenectady\, 1221 Wendell Ave\, Schenectady\, NY\, 12308
CATEGORIES:Evening Branch of the Women's Alliance
END:VEVENT
BEGIN:VEVENT
DTSTART;TZID=America/New_York:20260423T190000
DTEND;TZID=America/New_York:20260423T210000
DTSTAMP:20260423T194557
CREATED:20260331T204128Z
LAST-MODIFIED:20260331T204529Z
UID:10000750-1776970800-1776978000@uuschenectady.org
SUMMARY:Creative Thursdays
DESCRIPTION:Calling all handicrafters: if you knit\, crochet\, embroider\, do macrame\, beading\, counted cross stitch or even darn socks\, drop by the Fireplace Room on Thursday evenings! \nWe enjoy sharing company with artists of all types– adult colorers\, sketch artists\, zentangles and mandala makers\, water colorists\, if you can create it\, come! \nWe will meet Thursdays April 2nd\, 9th\, 16th and 23rd from 7:00 to 9:00 pm in the Fireplace room. We will take a breather April 30th\, then meet again all of the Thursdays in May! \nQuestions: Contact UUSS at info at uuschenectady dot org
URL:https://uuschenectady.org/event/creative-thursdays-2/2026-04-23/
LOCATION:Unitarian Universalist Society of Schenectady\, 1221 Wendell Ave\, Schenectady\, NY\, 12308
END:VEVENT
BEGIN:VEVENT
DTSTART;TZID=America/New_York:20260425T100000
DTEND;TZID=America/New_York:20260425T120000
DTSTAMP:20260423T194557
CREATED:20260407T202711Z
LAST-MODIFIED:20260407T202711Z
UID:10000756-1777111200-1777118400@uuschenectady.org
SUMMARY:Gardens & Grounds Work Party
DESCRIPTION:As we prepare for our Mayfest CommUUnity Celebration on May 2\, we invite you to help get the UUSS gardens and grounds ready for our community and guests. \nThe Gardens Team has scheduled work parties on Saturday April 18 and Saturday April 25\, both from 10am until noon\, and anyone is welcome to join us. \nWe’ll be raking and mulching the planting beds on the patio\, the front plaza\, and at Waters House\, as well as cleaning up the grounds behind Waters House for kids’ activities. \nYou are encouraged to bring your own gardening gloves and rakes\, and we’ll also have some available. We should have an enjoyable time working together as we prepare our grounds to look their best! \nAny questions\, contact Ernie Hall or Mimi Katz by emailing info at uuschenectady dot org. Also\, if you’d like to be added to our Gardens Team mailing list\, please let Ernie and Mimi know.
URL:https://uuschenectady.org/event/gardens-grounds-work-party/2026-04-25/
LOCATION:Unitarian Universalist Society of Schenectady\, 1221 Wendell Ave\, Schenectady\, NY\, 12308
CATEGORIES:Upcoming Event
END:VEVENT
BEGIN:VEVENT
DTSTART;TZID=America/New_York:20260427T190000
DTEND;TZID=America/New_York:20260427T203000
DTSTAMP:20260423T194557
CREATED:20260414T215507Z
LAST-MODIFIED:20260414T215507Z
UID:10000757-1777316400-1777321800@uuschenectady.org
SUMMARY:Grief Group
DESCRIPTION:Grief is a human response to loss\, and includes a range of emotions\, including sadness\, anger\, overwhelm or numbness\, denial\, guilt\, and despair. If you are grieving\, you aren’t alone. If you have experienced a loss\, whether it be a relationship. a job\, a health change/diagnosis\, a death\, a loss of identity or meaning\, or something else\, you are welcome. There is a place for you. Join with Rev. Lynn and others for a time of care and mutual support. \nQuestions? Contact Rev. Lynn at info at uuschenectady dot org.
URL:https://uuschenectady.org/event/grief-group-3/
LOCATION:Unitarian Universalist Society of Schenectady\, 1221 Wendell Ave\, Schenectady\, NY\, 12308
CATEGORIES:Upcoming Event
END:VEVENT
BEGIN:VEVENT
DTSTART;TZID=America/New_York:20260429T153000
DTEND;TZID=America/New_York:20260429T163000
DTSTAMP:20260423T194557
CREATED:20260331T203836Z
LAST-MODIFIED:20260331T203836Z
UID:10000743-1777476600-1777480200@uuschenectady.org
SUMMARY:Mid-Day Meditations
DESCRIPTION:Beginning April 22\, join UUSS member and mindfulness Buddhist practitioner Tamara Geveci for shared in-person meditation and mindfulness practice. \nAll are welcome for any or all of the spring sessions\, which will be held in the Emerson Room\, or maybe outside\, if the weather allows! \nThis will be a time of connection through guided meditative and mindfulness practices\, as well as quiet\, reflective meditation. No previous meditation experience necessary. \nSessions run 3:30 -4:30 PM on Wednesdays\, April 22 through May 20\, in the Emerson Room.
URL:https://uuschenectady.org/event/mid-day-meditations/2026-04-29/
LOCATION:Unitarian Universalist Society of Schenectady\, 1221 Wendell Ave\, Schenectady\, NY\, 12308
CATEGORIES:Upcoming Event
END:VEVENT
BEGIN:VEVENT
DTSTART;TZID=America/New_York:20260506T153000
DTEND;TZID=America/New_York:20260506T163000
DTSTAMP:20260423T194557
CREATED:20260331T203836Z
LAST-MODIFIED:20260331T203836Z
UID:10000744-1778081400-1778085000@uuschenectady.org
SUMMARY:Mid-Day Meditations
DESCRIPTION:Beginning April 22\, join UUSS member and mindfulness Buddhist practitioner Tamara Geveci for shared in-person meditation and mindfulness practice. \nAll are welcome for any or all of the spring sessions\, which will be held in the Emerson Room\, or maybe outside\, if the weather allows! \nThis will be a time of connection through guided meditative and mindfulness practices\, as well as quiet\, reflective meditation. No previous meditation experience necessary. \nSessions run 3:30 -4:30 PM on Wednesdays\, April 22 through May 20\, in the Emerson Room.
URL:https://uuschenectady.org/event/mid-day-meditations/2026-05-06/
LOCATION:Unitarian Universalist Society of Schenectady\, 1221 Wendell Ave\, Schenectady\, NY\, 12308
CATEGORIES:Upcoming Event
END:VEVENT
BEGIN:VEVENT
DTSTART;TZID=America/New_York:20260507T190000
DTEND;TZID=America/New_York:20260507T210000
DTSTAMP:20260423T194557
CREATED:20260331T204128Z
LAST-MODIFIED:20260331T204529Z
UID:10000751-1778180400-1778187600@uuschenectady.org
SUMMARY:Creative Thursdays
DESCRIPTION:Calling all handicrafters: if you knit\, crochet\, embroider\, do macrame\, beading\, counted cross stitch or even darn socks\, drop by the Fireplace Room on Thursday evenings! \nWe enjoy sharing company with artists of all types– adult colorers\, sketch artists\, zentangles and mandala makers\, water colorists\, if you can create it\, come! \nWe will meet Thursdays April 2nd\, 9th\, 16th and 23rd from 7:00 to 9:00 pm in the Fireplace room. We will take a breather April 30th\, then meet again all of the Thursdays in May! \nQuestions: Contact UUSS at info at uuschenectady dot org
URL:https://uuschenectady.org/event/creative-thursdays-2/2026-05-07/
LOCATION:Unitarian Universalist Society of Schenectady\, 1221 Wendell Ave\, Schenectady\, NY\, 12308
END:VEVENT
BEGIN:VEVENT
DTSTART;TZID=America/New_York:20260513T153000
DTEND;TZID=America/New_York:20260513T163000
DTSTAMP:20260423T194557
CREATED:20260331T203836Z
LAST-MODIFIED:20260331T203836Z
UID:10000745-1778686200-1778689800@uuschenectady.org
SUMMARY:Mid-Day Meditations
DESCRIPTION:Beginning April 22\, join UUSS member and mindfulness Buddhist practitioner Tamara Geveci for shared in-person meditation and mindfulness practice. \nAll are welcome for any or all of the spring sessions\, which will be held in the Emerson Room\, or maybe outside\, if the weather allows! \nThis will be a time of connection through guided meditative and mindfulness practices\, as well as quiet\, reflective meditation. No previous meditation experience necessary. \nSessions run 3:30 -4:30 PM on Wednesdays\, April 22 through May 20\, in the Emerson Room.
URL:https://uuschenectady.org/event/mid-day-meditations/2026-05-13/
LOCATION:Unitarian Universalist Society of Schenectady\, 1221 Wendell Ave\, Schenectady\, NY\, 12308
CATEGORIES:Upcoming Event
END:VEVENT
BEGIN:VEVENT
DTSTART;TZID=America/New_York:20260514T190000
DTEND;TZID=America/New_York:20260514T210000
DTSTAMP:20260423T194557
CREATED:20260331T204128Z
LAST-MODIFIED:20260331T204529Z
UID:10000752-1778785200-1778792400@uuschenectady.org
SUMMARY:Creative Thursdays
DESCRIPTION:Calling all handicrafters: if you knit\, crochet\, embroider\, do macrame\, beading\, counted cross stitch or even darn socks\, drop by the Fireplace Room on Thursday evenings! \nWe enjoy sharing company with artists of all types– adult colorers\, sketch artists\, zentangles and mandala makers\, water colorists\, if you can create it\, come! \nWe will meet Thursdays April 2nd\, 9th\, 16th and 23rd from 7:00 to 9:00 pm in the Fireplace room. We will take a breather April 30th\, then meet again all of the Thursdays in May! \nQuestions: Contact UUSS at info at uuschenectady dot org
URL:https://uuschenectady.org/event/creative-thursdays-2/2026-05-14/
LOCATION:Unitarian Universalist Society of Schenectady\, 1221 Wendell Ave\, Schenectady\, NY\, 12308
END:VEVENT
BEGIN:VEVENT
DTSTART;TZID=America/New_York:20260520T153000
DTEND;TZID=America/New_York:20260520T163000
DTSTAMP:20260423T194557
CREATED:20260331T203836Z
LAST-MODIFIED:20260331T203836Z
UID:10000746-1779291000-1779294600@uuschenectady.org
SUMMARY:Mid-Day Meditations
DESCRIPTION:Beginning April 22\, join UUSS member and mindfulness Buddhist practitioner Tamara Geveci for shared in-person meditation and mindfulness practice. \nAll are welcome for any or all of the spring sessions\, which will be held in the Emerson Room\, or maybe outside\, if the weather allows! \nThis will be a time of connection through guided meditative and mindfulness practices\, as well as quiet\, reflective meditation. No previous meditation experience necessary. \nSessions run 3:30 -4:30 PM on Wednesdays\, April 22 through May 20\, in the Emerson Room.
URL:https://uuschenectady.org/event/mid-day-meditations/2026-05-20/
LOCATION:Unitarian Universalist Society of Schenectady\, 1221 Wendell Ave\, Schenectady\, NY\, 12308
CATEGORIES:Upcoming Event
END:VEVENT
BEGIN:VEVENT
DTSTART;TZID=America/New_York:20260521T190000
DTEND;TZID=America/New_York:20260521T210000
DTSTAMP:20260423T194557
CREATED:20260331T204128Z
LAST-MODIFIED:20260331T204529Z
UID:10000753-1779390000-1779397200@uuschenectady.org
SUMMARY:Creative Thursdays
DESCRIPTION:Calling all handicrafters: if you knit\, crochet\, embroider\, do macrame\, beading\, counted cross stitch or even darn socks\, drop by the Fireplace Room on Thursday evenings! \nWe enjoy sharing company with artists of all types– adult colorers\, sketch artists\, zentangles and mandala makers\, water colorists\, if you can create it\, come! \nWe will meet Thursdays April 2nd\, 9th\, 16th and 23rd from 7:00 to 9:00 pm in the Fireplace room. We will take a breather April 30th\, then meet again all of the Thursdays in May! \nQuestions: Contact UUSS at info at uuschenectady dot org
URL:https://uuschenectady.org/event/creative-thursdays-2/2026-05-21/
LOCATION:Unitarian Universalist Society of Schenectady\, 1221 Wendell Ave\, Schenectady\, NY\, 12308
END:VEVENT
BEGIN:VEVENT
DTSTART;TZID=America/New_York:20260528T080000
DTEND;TZID=America/New_York:20260528T170000
DTSTAMP:20260423T194557
CREATED:20260331T204128Z
LAST-MODIFIED:20260331T204529Z
UID:10000754-1779955200-1779987600@uuschenectady.org
SUMMARY:Creative Thursdays
DESCRIPTION:Calling all handicrafters: if you knit\, crochet\, embroider\, do macrame\, beading\, counted cross stitch or even darn socks\, drop by the Fireplace Room on Thursday evenings! \nWe enjoy sharing company with artists of all types– adult colorers\, sketch artists\, zentangles and mandala makers\, water colorists\, if you can create it\, come! \nWe will meet Thursdays April 2nd\, 9th\, 16th and 23rd from 7:00 to 9:00 pm in the Fireplace room. We will take a breather April 30th\, then meet again all of the Thursdays in May! \nQuestions: Contact UUSS at info at uuschenectady dot org
URL:https://uuschenectady.org/event/creative-thursdays-2/2026-05-28/
LOCATION:Unitarian Universalist Society of Schenectady\, 1221 Wendell Ave\, Schenectady\, NY\, 12308
END:VEVENT
END:VCALENDAR