BEGIN:VCALENDAR
VERSION:2.0
PRODID:-//Unitarian Universalist Society of Schenectady - ECPv6.15.20//NONSGML v1.0//EN
CALSCALE:GREGORIAN
METHOD:PUBLISH
X-ORIGINAL-URL:https://uuschenectady.org
X-WR-CALDESC:Events for Unitarian Universalist Society of Schenectady
REFRESH-INTERVAL;VALUE=DURATION:PT1H
X-Robots-Tag:noindex
X-PUBLISHED-TTL:PT1H
BEGIN:VTIMEZONE
TZID:America/New_York
BEGIN:DAYLIGHT
TZOFFSETFROM:-0500
TZOFFSETTO:-0400
TZNAME:EDT
DTSTART:20250309T070000
END:DAYLIGHT
BEGIN:STANDARD
TZOFFSETFROM:-0400
TZOFFSETTO:-0500
TZNAME:EST
DTSTART:20251102T060000
END:STANDARD
BEGIN:DAYLIGHT
TZOFFSETFROM:-0500
TZOFFSETTO:-0400
TZNAME:EDT
DTSTART:20260308T070000
END:DAYLIGHT
BEGIN:STANDARD
TZOFFSETFROM:-0400
TZOFFSETTO:-0500
TZNAME:EST
DTSTART:20261101T060000
END:STANDARD
BEGIN:DAYLIGHT
TZOFFSETFROM:-0500
TZOFFSETTO:-0400
TZNAME:EDT
DTSTART:20270314T070000
END:DAYLIGHT
BEGIN:STANDARD
TZOFFSETFROM:-0400
TZOFFSETTO:-0500
TZNAME:EST
DTSTART:20271107T060000
END:STANDARD
END:VTIMEZONE
BEGIN:VEVENT
DTSTART;TZID=America/New_York:20260201T130000
DTEND;TZID=America/New_York:20260201T153000
DTSTAMP:20260423T163829
CREATED:20260110T203908Z
LAST-MODIFIED:20260124T165941Z
UID:10000713-1769950800-1769959800@uuschenectady.org
SUMMARY:Sing Out for Peace & Justice!
DESCRIPTION:On Sunday\, February 1\, anyone who loves to sing is invited to raise their spirits by singing Songs of Peace and Justice together from 1:00 – 3:30 pm in the UUSS Great Hall. The event is free and open to all\, though free will donations are welcome to support ongoing work for peace and justice. Attendees are also invited to bring a non-perishable food item to go to a local food pantry.\n\nLight snacks will be provided. The sing-along is organized by the UU Schenectady Music Team and Choir. Please email info at uuschenectady dot org with questions.
URL:https://uuschenectady.org/event/sing-out-for-peace-justice/
LOCATION:Unitarian Universalist Society of Schenectady\, 1221 Wendell Ave\, Schenectady\, NY\, 12308
CATEGORIES:Upcoming Event
END:VEVENT
BEGIN:VEVENT
DTSTART;TZID=America/New_York:20260208T120000
DTEND;TZID=America/New_York:20260208T130000
DTSTAMP:20260423T163829
CREATED:20260122T201336Z
LAST-MODIFIED:20260122T201336Z
UID:10000716-1770552000-1770555600@uuschenectady.org
SUMMARY:Open Questions Event
DESCRIPTION:Please consider attending our second Open Questions Event\, where members and friends of UUSS can listen and discuss two important questions from the Board of Trustees. This event is kid-friendly and designed to allow you to participate in a variety of ways. It also accommodates those with a busy schedule\, who may only be able to stay after service for 15 minutes. \nDifferent types of activities will be set up in the Great Hall and in the Dining Room\, so you can browse and find an activity that fits you! Participate in one or multiple discussion formats! Feedback provided during our last Open Questions Event will be incorporated into one of the activities. There will also be a discussion held online\, in the same Zoom room that is used for services. \nThe discussions will focus on the following two questions: \n\nWhat can we do this year to ensure that UUSS will exist and flourish into the next 125 years?\nHow can we stay curious and engaged with each other and our communities during these difficult times?\n\nThe Board looks forward to hearing from you!
URL:https://uuschenectady.org/event/open-questions-event/
LOCATION:Unitarian Universalist Society of Schenectady\, 1221 Wendell Ave\, Schenectady\, NY\, 12308
CATEGORIES:Upcoming Event
END:VEVENT
BEGIN:VEVENT
DTSTART;TZID=America/New_York:20260213T173000
DTEND;TZID=America/New_York:20260213T203000
DTSTAMP:20260423T163830
CREATED:20260113T214954Z
LAST-MODIFIED:20260113T214954Z
UID:10000714-1771003800-1771014600@uuschenectady.org
SUMMARY:Come Join UUSS in Games\, Art-making & Community Time!
DESCRIPTION:Folks of all ages are invited to come to the UUSS dining room anytime between 5:30 – 8:30 pm to socialize and create joy in community! \nWe’ll set up the ping pong table and put out board games\, card games\, twister and corn hole\, and also a range of coloring sheets\, markers\, crayons\, pipe cleaners\, craft sticks\, yarn and other simple art materials. You are welcome to bring a favorite game or your own art project to work on as well. \nUUSS will provide hot cider and lemonade. If you would like to bring a snack to share\, that’s lovely. If you prefer to bring a bag dinner for yourself/your family\, that’s great too. And if you’d rather not bring anything but yourself\, that’s also grand! The idea is minimal pressure\, maximal joy. \nRSVPs are not required\, but if you DO know ahead of time that you plan to come\, it does help us to set up. RSVP by clicking HERE. \nQuestions? UUSS Congregational Life Coordinator Kristin Cleveland at info at uuschenectady dot org or (518)374-4446 X7.
URL:https://uuschenectady.org/event/come-join-uuss-in-games-art-making-community-time/
LOCATION:Unitarian Universalist Society of Schenectady\, 1221 Wendell Ave\, Schenectady\, NY\, 12308
CATEGORIES:Upcoming Event
END:VEVENT
BEGIN:VEVENT
DTSTART;TZID=America/New_York:20260216T180000
DTEND;TZID=America/New_York:20260216T190000
DTSTAMP:20260423T163830
CREATED:20260211T015852Z
LAST-MODIFIED:20260211T015852Z
UID:10000719-1771264800-1771268400@uuschenectady.org
SUMMARY:Discussion of Black Buck by Mateo Askaripour
DESCRIPTION:The BIPOC Authors Book Group online discussion this month will be on Monday\, February 16\, 2026\, at 6 pm. \nWe read Black Buck\, by Mateo Askaripour\, which was written in 2021. This ‘crackling’ contemporary novel by Jamaican Iranian author Askaripour is 388 pages. \nFor Zoom info contact UUSS at info at uuschenectady dot org.
URL:https://uuschenectady.org/event/discussion-of-black-buck-by-mateo-askaripour/
LOCATION:online
END:VEVENT
BEGIN:VEVENT
DTSTART;TZID=America/New_York:20260223T190000
DTEND;TZID=America/New_York:20260223T203000
DTSTAMP:20260423T163830
CREATED:20260209T202953Z
LAST-MODIFIED:20260210T195820Z
UID:10000718-1771873200-1771878600@uuschenectady.org
SUMMARY:Grief Group
DESCRIPTION:Grief is a human response to loss\, and includes a range of emotions\, including sadness\, anger\, overwhelm or numbness\, denial\, guilt\, and despair. If you are grieving\, you aren’t alone. If you have experienced a loss\, whether it be a relationship. a job\, a health change/diagnosis\, a death\, a loss of identity or meaning\, or something else\, you are welcome. There is a place for you. \nJoin with Rev. Lynn and others for a time of care and mutual support. Questions? Contact Rev. Lynn at info at uuschenectady dot org or (518)374-4446 X3.
URL:https://uuschenectady.org/event/grief-group/
LOCATION:Unitarian Universalist Society of Schenectady\, 1221 Wendell Ave\, Schenectady\, NY\, 12308
CATEGORIES:Upcoming Event
END:VEVENT
BEGIN:VEVENT
DTSTART;TZID=America/New_York:20260226T190000
DTEND;TZID=America/New_York:20260226T210000
DTSTAMP:20260423T163830
CREATED:20260203T181950Z
LAST-MODIFIED:20260203T182309Z
UID:10000717-1772132400-1772139600@uuschenectady.org
SUMMARY:EBWA Program for February: The NYS Abortion Landscape Since the Dobbs Decision
DESCRIPTION:Speaker: Cassandra Klewicki\, Reproductive Justice Advocate \nAt the upcoming program of the Evening Branch of the Women’s Alliance (EBWA)\, Cassandra Klewicki will discuss the current abortion landscape in the United States\, including how access has shifted since the fall of Roe v. Wade\, what these changes mean for patients and providers\, and how New York State is being impacted as a major access point for out-of-state care. Cassandra currently serves as an intake coordinator for the New York Abortion Access Fund where she supervises case managers and supports complex cases including patients seeking care from out of state. She travels the country speaking on issues of abortion access and reproductive healthcare in the United States. — All are invited to join us for what promises to be an informative EBWA program. This program will be held on Zoom only. \nWhile we plan to resume in-person meetings in March\, we will meet on Zoom in February. If you already receive EBWA announcements from Judy Clough\, or Daytime Alliance announcements from Christy Multer\, you will automatically be sent the Zoom invitation and do not need to request one.  If you do not usually get these email announcements\, please email Judy at mimaclough@yahoo.com by Tuesday\, February 24 to receive an invitation to join the Zoom program. \nSign into the meeting between 6:50 and 7:00pm.  After welcoming remarks\, the speaker will be introduced. Following the presentation\, there will be time for questions.  Networking (when each attendee may share something of interest with the group) will begin around 8:15\, and the meeting will end no later than 9pm. \nLooking ahead:  On March 26 we will co-host a lunch meeting with the Daytime Alliance\, 11:45- 2:00. Our program\, “Beyond the Campfire: How the Adirondack Wilderness Lured More Than Just the Sportsmen\,” will feature Laura Baker\, Licensed Adirondack Guide.  \nTo see the full calendar of EBWA programs for 2025-2026\, click HERE.
URL:https://uuschenectady.org/event/ebwa-program-for-february-the-nys-abortion-landscape-since-the-dobbs-decision/
LOCATION:online
CATEGORIES:Evening Branch of the Women's Alliance
END:VEVENT
END:VCALENDAR