BEGIN:VCALENDAR
VERSION:2.0
PRODID:-//Unitarian Universalist Society of Schenectady - ECPv6.15.20//NONSGML v1.0//EN
CALSCALE:GREGORIAN
METHOD:PUBLISH
X-ORIGINAL-URL:https://uuschenectady.org
X-WR-CALDESC:Events for Unitarian Universalist Society of Schenectady
REFRESH-INTERVAL;VALUE=DURATION:PT1H
X-Robots-Tag:noindex
X-PUBLISHED-TTL:PT1H
BEGIN:VTIMEZONE
TZID:America/New_York
BEGIN:DAYLIGHT
TZOFFSETFROM:-0500
TZOFFSETTO:-0400
TZNAME:EDT
DTSTART:20240310T070000
END:DAYLIGHT
BEGIN:STANDARD
TZOFFSETFROM:-0400
TZOFFSETTO:-0500
TZNAME:EST
DTSTART:20241103T060000
END:STANDARD
BEGIN:DAYLIGHT
TZOFFSETFROM:-0500
TZOFFSETTO:-0400
TZNAME:EDT
DTSTART:20250309T070000
END:DAYLIGHT
BEGIN:STANDARD
TZOFFSETFROM:-0400
TZOFFSETTO:-0500
TZNAME:EST
DTSTART:20251102T060000
END:STANDARD
BEGIN:DAYLIGHT
TZOFFSETFROM:-0500
TZOFFSETTO:-0400
TZNAME:EDT
DTSTART:20260308T070000
END:DAYLIGHT
BEGIN:STANDARD
TZOFFSETFROM:-0400
TZOFFSETTO:-0500
TZNAME:EST
DTSTART:20261101T060000
END:STANDARD
END:VTIMEZONE
BEGIN:VEVENT
DTSTART;TZID=America/New_York:20251204T110000
DTEND;TZID=America/New_York:20251204T140000
DTSTAMP:20260423T202758
CREATED:20251121T151900Z
LAST-MODIFIED:20251121T151928Z
UID:10000705-1764846000-1764856800@uuschenectady.org
SUMMARY:Help Stuff Stockings on Dec. 4th
DESCRIPTION:Last December\, UUSS members and friends packed 93 Holiday Stockings for children in Schenectady. This December\, the need is so much greater. We can’t fix grocery prices or the national SNAP mess\, but we UU’s can help make Christmas and Hanukkah a little happier for local families in need. Can we collect enough small toys\, toiletries\, kids hats and mittens to fill at least 125 stockings this year??? Filling 125 stockings means collecting at least 625 items! \nThe Daytime Alliance and EBWA are co-sponsoring this 5th annual Holiday Stocking Stuffer event. The process is easy. We provide the stockings; you provide the fillers. \nOn the next two Sundays (November 23\, and 30)\, please bring small items for children ages 3 – 12 to church and drop your donated items into the boxes at the back of the Great Hall. The Sycamore Collaborative Emergency Food Pantry has especially asked us to provide toothpaste\, toothbrushes\, children’s winter hats & mittens. Small stuffed animals\, toys\, books\, stickers & art/craft supplies are needed too. \nAlso\, all are welcome to join in the fun of filling the stockings at UUSS on Thursday\, Dec. 4. Starting at 11 AM\, we will stuff the stockings\, then enjoy a catered lunch together at 12 noon\, and at 1 pm\, hear about local food needs with a presentation by Sarah McGaughnen from the Regional Food Bank. \nLunch on December 4 will be $20\, payable with cash or check at the door. To RSVP for lunch\, please contact Nancy Bogdanowicz.
URL:https://uuschenectady.org/event/help-stuff-stockings-on-dec-4th/
LOCATION:Unitarian Universalist Society of Schenectady\, 1221 Wendell Ave\, Schenectady\, NY\, 12308
CATEGORIES:Evening Branch of the Women's Alliance,Upcoming Event
END:VEVENT
BEGIN:VEVENT
DTSTART;TZID=America/New_York:20251214T120000
DTEND;TZID=America/New_York:20251214T140000
DTSTAMP:20260423T202758
CREATED:20251121T151346Z
LAST-MODIFIED:20251202T194657Z
UID:10000703-1765713600-1765720800@uuschenectady.org
SUMMARY:Holiday Hangout (Crafts\, Caroling\, Cider & Snacks)
DESCRIPTION:Stick around after the worship service on Sunday\, December 14th\, for the UUSS Holiday Hangout! \nWe’ll have hot cider\, sweet & savory snacks\, carol singing around the piano\, and a variety of holiday themed crafts. \nThere will also be an opportunity to create your own wreath! (with a suggested donation to cover the cost of wreath forms\, greens and decoration materials). \nWe’ll also have a station where you can get your photo updated in Breeze! \nIf you would like to help with set up\, clean up\, or crafts\, contact UUSS at info at uuschenectady dot org.
URL:https://uuschenectady.org/event/holiday-hangout-crafts-caroling-cider-snacks/
LOCATION:Unitarian Universalist Society of Schenectady\, 1221 Wendell Ave\, Schenectady\, NY\, 12308
CATEGORIES:Upcoming Event
END:VEVENT
BEGIN:VEVENT
DTSTART;TZID=America/New_York:20251224T190000
DTEND;TZID=America/New_York:20251224T203000
DTSTAMP:20260423T202758
CREATED:20251125T214020Z
LAST-MODIFIED:20251209T185802Z
UID:10000706-1766602800-1766608200@uuschenectady.org
SUMMARY:Born Astonished
DESCRIPTION:Come for the annual UUSS Christmas Eve service\, led by UUSS co-ministers Rev. Wendy Bartel and Rev. Lynn Gardner\, and UUSS music director Maria Elmer. \nUUSS worship services are held in-person in the Great Hall\, and also online. To join in the worship service online via Zoom\, click HERE on Sunday morning. \nUUSS building mask status: masks are now optional\, and are always welcome. \nIf you have questions about the service\, Unitarian Universalism\, or the UU Society of Schenectady (UUSS)\, contact UUSS at info at uuschenectady dot org
URL:https://uuschenectady.org/event/christmas-eve-candlelight-service-2/
LOCATION:Unitarian Universalist Society of Schenectady\, 1221 Wendell Ave\, Schenectady\, NY\, 12308
CATEGORIES:Upcoming Event
END:VEVENT
BEGIN:VEVENT
DTSTART;TZID=America/New_York:20251228T103000
DTEND;TZID=America/New_York:20251228T113000
DTSTAMP:20260423T202758
CREATED:20251223T201535Z
LAST-MODIFIED:20251223T201535Z
UID:10000708-1766917800-1766921400@uuschenectady.org
SUMMARY:Art of the Season\, & Art that Forms Us
DESCRIPTION:UUSS members and friends will share poetry\, music and art from the season and seasonal holidays. We’ll reflect on how these inform who we are\, and/or how we find joy. All are welcome for this multigenerational service! \nWorship Presenters: Stephanie Maslanka\, Maria Elmer\, Poets and Artists \nUUSS worship services are held in-person in the Great Hall\, and also online. To join in the worship service online via Zoom\, click HERE on Sunday morning. \nUUSS building mask status: masks are now optional\, and are always welcome. \nIf you have questions about the service\, Unitarian Universalism\, or the UU Society of Schenectady (UUSS)\, contact UUSS at info at uuschenectady dot org
URL:https://uuschenectady.org/event/art-of-the-season-art-that-forms-us/
LOCATION:Unitarian Universalist Society of Schenectady\, 1221 Wendell Ave\, Schenectady\, NY\, 12308
CATEGORIES:Upcoming Event
END:VEVENT
BEGIN:VEVENT
DTSTART;TZID=America/New_York:20251229T180000
DTEND;TZID=America/New_York:20251229T190000
DTSTAMP:20260423T202758
CREATED:20251209T213339Z
LAST-MODIFIED:20251209T213339Z
UID:10000707-1767031200-1767034800@uuschenectady.org
SUMMARY:BIPOC Authors Book Group Discussion
DESCRIPTION:Join us online on Monday\, Dec. 29th from 6 – 7 for a discussion of this month’s book by a BIPOC (Black\, Indigenous\, or other Person of Color) author. \nDuring the last month of the year\, we read poetry – to reflect\, as one year ends and another one begins\, in stanzas that we have not created ourselves. Our choice for this December – Words Under the Words: Selected Poems by Naomi Shihab Nye\, (Palestinian American) 1994 \nFrom Nye’s poem\, “The Shopper” \nWe must bless ourselves with peaches.\nPray to the eggplant\, silent among her sisters\,\nthat the seeds will not be bitter on the tongue.\nConfess our fears to the flesh of the tomato:\nwe too go forward only halfway ripened\ndreaming of the deeper red. \nIf you have suggestions for novels\, historical fiction\, memoirs\, or books of poetry by BIPOC authors\, please send them along to info at uuschenectady dot org. You may write here for the Zoom info too.
URL:https://uuschenectady.org/event/bipoc-authors-book-group-discussion/
LOCATION:online
CATEGORIES:Upcoming Event
END:VEVENT
END:VCALENDAR