BEGIN:VCALENDAR
VERSION:2.0
PRODID:-//Unitarian Universalist Society of Schenectady - ECPv6.15.20//NONSGML v1.0//EN
CALSCALE:GREGORIAN
METHOD:PUBLISH
X-ORIGINAL-URL:https://uuschenectady.org
X-WR-CALDESC:Events for Unitarian Universalist Society of Schenectady
REFRESH-INTERVAL;VALUE=DURATION:PT1H
X-Robots-Tag:noindex
X-PUBLISHED-TTL:PT1H
BEGIN:VTIMEZONE
TZID:America/New_York
BEGIN:DAYLIGHT
TZOFFSETFROM:-0500
TZOFFSETTO:-0400
TZNAME:EDT
DTSTART:20240310T070000
END:DAYLIGHT
BEGIN:STANDARD
TZOFFSETFROM:-0400
TZOFFSETTO:-0500
TZNAME:EST
DTSTART:20241103T060000
END:STANDARD
BEGIN:DAYLIGHT
TZOFFSETFROM:-0500
TZOFFSETTO:-0400
TZNAME:EDT
DTSTART:20250309T070000
END:DAYLIGHT
BEGIN:STANDARD
TZOFFSETFROM:-0400
TZOFFSETTO:-0500
TZNAME:EST
DTSTART:20251102T060000
END:STANDARD
BEGIN:DAYLIGHT
TZOFFSETFROM:-0500
TZOFFSETTO:-0400
TZNAME:EDT
DTSTART:20260308T070000
END:DAYLIGHT
BEGIN:STANDARD
TZOFFSETFROM:-0400
TZOFFSETTO:-0500
TZNAME:EST
DTSTART:20261101T060000
END:STANDARD
END:VTIMEZONE
BEGIN:VEVENT
DTSTART;TZID=America/New_York:20250907T103000
DTEND;TZID=America/New_York:20250907T113000
DTSTAMP:20260424T021914
CREATED:20250702T134120Z
LAST-MODIFIED:20250702T134444Z
UID:10000673-1757241000-1757244600@uuschenectady.org
SUMMARY:Worship service & Religious Education
DESCRIPTION:Worship services are held in the 1221 Wendell Avenue Great Hall sanctuary space and on Zoom. \nThe Summer Stars Religious Education programs for children ages 5 and up are in the 1221 Wendell Avenue K-1 classroom (next to the dining room). The nursery (next to the K-1 classroom) is open for children ages 5 and below. (Children are also welcome to stay with their parents/caregivers in the worship service). \nA description of each week’s worship service is at the top of the home page\, and a description of the Summer Stars program is in the “News and Notes” section of posts on the home page. \nFor more information contact UUSS at info at uuschenectady dot org or (518)374-4446.
URL:https://uuschenectady.org/event/worship-service-and-religious-education-programming/2025-09-07/
LOCATION:Unitarian Universalist Society of Schenectady\, 1221 Wendell Ave\, Schenectady\, NY\, 12308
END:VEVENT
BEGIN:VEVENT
DTSTART;TZID=America/New_York:20250911T120000
DTEND;TZID=America/New_York:20250911T140000
DTSTAMP:20260424T021914
CREATED:20250829T194246Z
LAST-MODIFIED:20250829T194304Z
UID:10000677-1757592000-1757599200@uuschenectady.org
SUMMARY:Daytime Alliance September Luncheon features Dr. Nose-a-Lot!
DESCRIPTION:Dr. Nose-a-Lot coming to UUSS on Thursday\, Sept. 11 \nAll are invited to RSVP now & join the Daytime Alliance for their first fall luncheon meeting and presentation at 12 noon on Thursday\, September 11\, in the church dining room with a unique guest speaker — Dr. Nose-a-Lot from Clowns on Rounds. \nYou’ve heard of music therapy? Well\, Clowns on Rounds is a group of professional entertainers disguised as doctors and nurses who provide humor therapy at local hospitals and nursing homes. Pictured here at Ellis Hospital\, Dr. Nose-a-Lot and her counterparts (including Dr. Gigglebritches\, Dr. Merry Heart\, and Dr. Anita Hug) use laughter to reduce patients’ fear\, anxiety and blood pressure in health care settings. During Covid\, they even took their antics outdoors\, using skits\, props and posters outside of nursing home windows to help patients feel connected and loved. \nLunch will be $20 at 12 noon provided by Gershon’s and will include Pasta Primavera\, Chicken Cordon Bleu\, Three Bean Salad and Carrot Cake. The presentation will begin at 1 pm. People of all genders are invited and urged to RSVP by September 2 by contacting Nancy Bogdanowicz.
URL:https://uuschenectady.org/event/daytime-alliance-september-luncheon-features-dr-nose-a-lot/
LOCATION:Unitarian Universalist Society of Schenectady\, 1221 Wendell Ave\, Schenectady\, NY\, 12308
END:VEVENT
BEGIN:VEVENT
DTSTART;TZID=America/New_York:20250914T103000
DTEND;TZID=America/New_York:20250914T120000
DTSTAMP:20260424T021914
CREATED:20250805T173839Z
LAST-MODIFIED:20250908T155222Z
UID:10000675-1757845800-1757851200@uuschenectady.org
SUMMARY:Ingathering Water Communion: Get on Board! Then stay for the All Congregation Picnic!
DESCRIPTION:Join UUSS for the annual Unitarian Universalist Ingathering/Water Communion worship service. \nAfter the service\, all are welcome to stay for a potluck picnic. We’ll have tables in the dining room and on the patio\, and lawn games as weather permits. \nDetails:  \nWe’re going to have our annual Ingathering on the second Sunday of September\, Sept 14th. We will celebrate our community and the beginning of a new church year together\, including a Water Communion. \nEveryone is invited to bring a small bit of water from someplace that symbolizes your summer-perhaps a local pond\, a swimming pool\, the ocean\, your own faucet or hose. We will co-mingle the precious water that we collect\, honor the water for its nourishment\, and then purify and prepare the gathered waters to be used in other rituals throughout the year. \nAfter this multigenerational service celebrating Unitarian Universalism and our religious community\, we’ll have a shared meal. Bring a potluck dish to serve 8-12 people and a card with the ingredients as we have several folks with food allergies\, needs\, as well as preferences. We look forward to seeing you and to meeting some of you who have started attending this summer! -Rev. Lynn and Rev. Wendy
URL:https://uuschenectady.org/event/annual-uuss-water-ingathering-worship-service-picnic/
LOCATION:Unitarian Universalist Society of Schenectady\, 1221 Wendell Ave\, Schenectady\, NY\, 12308
CATEGORIES:Upcoming Event
END:VEVENT
BEGIN:VEVENT
DTSTART;TZID=America/New_York:20250923T190000
DTEND;TZID=America/New_York:20250923T203000
DTSTAMP:20260424T021914
CREATED:20250915T200434Z
LAST-MODIFIED:20250915T200434Z
UID:10000681-1758654000-1758659400@uuschenectady.org
SUMMARY:Grief Group
DESCRIPTION:Grief is a human response to loss\, and includes a range of emotions\, including sadness\, anger\, overwhelm or numbness\, denial\, guilt\, and despair. If you are grieving\, you aren’t alone. If you have experienced a loss\, whether it be a relationship. a job\, a health change/diagnosis\, a death\, a loss of identity or meaning\, or something else\, you are welcome. There is a place for you. Join with Rev. Lynn and others for a time of care and mutual support. \nQuestions? Contact info at uuschenectady dot org
URL:https://uuschenectady.org/event/grief-group-13/
LOCATION:Unitarian Universalist Society of Schenectady\, 1221 Wendell Ave\, Schenectady\, NY\, 12308
CATEGORIES:Upcoming Event
END:VEVENT
BEGIN:VEVENT
DTSTART;TZID=America/New_York:20250928T120000
DTEND;TZID=America/New_York:20250928T130000
DTSTAMP:20260424T021914
CREATED:20250909T213223Z
LAST-MODIFIED:20250909T213223Z
UID:10000680-1759060800-1759064400@uuschenectady.org
SUMMARY:Locavore Lunch
DESCRIPTION:This is our annual celebration of the harvest\, where we enjoy delicious local foods and celebrate our congregation’s dedication to the Earth. All are welcome! Free-will donations benefit UU Schenectady. \nVolunteers always deeply appreciated – bring a dish\, cook\, or help us set up or clean up! You can use our online sign-up
URL:https://uuschenectady.org/event/locavore-lunch-2/
LOCATION:Unitarian Universalist Society of Schenectady\, 1221 Wendell Ave\, Schenectady\, NY\, 12308
CATEGORIES:Green Sanctuary,Upcoming Event
END:VEVENT
END:VCALENDAR