BEGIN:VCALENDAR
VERSION:2.0
PRODID:-//Unitarian Universalist Society of Schenectady - ECPv6.15.20//NONSGML v1.0//EN
CALSCALE:GREGORIAN
METHOD:PUBLISH
X-ORIGINAL-URL:https://uuschenectady.org
X-WR-CALDESC:Events for Unitarian Universalist Society of Schenectady
REFRESH-INTERVAL;VALUE=DURATION:PT1H
X-Robots-Tag:noindex
X-PUBLISHED-TTL:PT1H
BEGIN:VTIMEZONE
TZID:America/New_York
BEGIN:DAYLIGHT
TZOFFSETFROM:-0500
TZOFFSETTO:-0400
TZNAME:EDT
DTSTART:20240310T070000
END:DAYLIGHT
BEGIN:STANDARD
TZOFFSETFROM:-0400
TZOFFSETTO:-0500
TZNAME:EST
DTSTART:20241103T060000
END:STANDARD
BEGIN:DAYLIGHT
TZOFFSETFROM:-0500
TZOFFSETTO:-0400
TZNAME:EDT
DTSTART:20250309T070000
END:DAYLIGHT
BEGIN:STANDARD
TZOFFSETFROM:-0400
TZOFFSETTO:-0500
TZNAME:EST
DTSTART:20251102T060000
END:STANDARD
BEGIN:DAYLIGHT
TZOFFSETFROM:-0500
TZOFFSETTO:-0400
TZNAME:EDT
DTSTART:20260308T070000
END:DAYLIGHT
BEGIN:STANDARD
TZOFFSETFROM:-0400
TZOFFSETTO:-0500
TZNAME:EST
DTSTART:20261101T060000
END:STANDARD
END:VTIMEZONE
BEGIN:VEVENT
DTSTART;TZID=America/New_York:20250803T103000
DTEND;TZID=America/New_York:20250803T113000
DTSTAMP:20260424T041320
CREATED:20250702T134120Z
LAST-MODIFIED:20250702T134444Z
UID:10000668-1754217000-1754220600@uuschenectady.org
SUMMARY:Worship service & Religious Education
DESCRIPTION:Worship services are held in the 1221 Wendell Avenue Great Hall sanctuary space and on Zoom. \nThe Summer Stars Religious Education programs for children ages 5 and up are in the 1221 Wendell Avenue K-1 classroom (next to the dining room). The nursery (next to the K-1 classroom) is open for children ages 5 and below. (Children are also welcome to stay with their parents/caregivers in the worship service). \nA description of each week’s worship service is at the top of the home page\, and a description of the Summer Stars program is in the “News and Notes” section of posts on the home page. \nFor more information contact UUSS at info at uuschenectady dot org or (518)374-4446.
URL:https://uuschenectady.org/event/worship-service-and-religious-education-programming/2025-08-03/
LOCATION:Unitarian Universalist Society of Schenectady\, 1221 Wendell Ave\, Schenectady\, NY\, 12308
END:VEVENT
BEGIN:VEVENT
DTSTART;TZID=America/New_York:20250810T103000
DTEND;TZID=America/New_York:20250810T113000
DTSTAMP:20260424T041320
CREATED:20250702T134120Z
LAST-MODIFIED:20250702T134444Z
UID:10000669-1754821800-1754825400@uuschenectady.org
SUMMARY:Worship service & Religious Education
DESCRIPTION:Worship services are held in the 1221 Wendell Avenue Great Hall sanctuary space and on Zoom. \nThe Summer Stars Religious Education programs for children ages 5 and up are in the 1221 Wendell Avenue K-1 classroom (next to the dining room). The nursery (next to the K-1 classroom) is open for children ages 5 and below. (Children are also welcome to stay with their parents/caregivers in the worship service). \nA description of each week’s worship service is at the top of the home page\, and a description of the Summer Stars program is in the “News and Notes” section of posts on the home page. \nFor more information contact UUSS at info at uuschenectady dot org or (518)374-4446.
URL:https://uuschenectady.org/event/worship-service-and-religious-education-programming/2025-08-10/
LOCATION:Unitarian Universalist Society of Schenectady\, 1221 Wendell Ave\, Schenectady\, NY\, 12308
END:VEVENT
BEGIN:VEVENT
DTSTART;TZID=America/New_York:20250817T103000
DTEND;TZID=America/New_York:20250817T113000
DTSTAMP:20260424T041320
CREATED:20250702T134120Z
LAST-MODIFIED:20250702T134444Z
UID:10000670-1755426600-1755430200@uuschenectady.org
SUMMARY:Worship service & Religious Education
DESCRIPTION:Worship services are held in the 1221 Wendell Avenue Great Hall sanctuary space and on Zoom. \nThe Summer Stars Religious Education programs for children ages 5 and up are in the 1221 Wendell Avenue K-1 classroom (next to the dining room). The nursery (next to the K-1 classroom) is open for children ages 5 and below. (Children are also welcome to stay with their parents/caregivers in the worship service). \nA description of each week’s worship service is at the top of the home page\, and a description of the Summer Stars program is in the “News and Notes” section of posts on the home page. \nFor more information contact UUSS at info at uuschenectady dot org or (518)374-4446.
URL:https://uuschenectady.org/event/worship-service-and-religious-education-programming/2025-08-17/
LOCATION:Unitarian Universalist Society of Schenectady\, 1221 Wendell Ave\, Schenectady\, NY\, 12308
END:VEVENT
BEGIN:VEVENT
DTSTART;TZID=America/New_York:20250819T100000
DTEND;TZID=America/New_York:20250819T110000
DTSTAMP:20260424T041320
CREATED:20250817T135454Z
LAST-MODIFIED:20250817T140615Z
UID:10000676-1755597600-1755601200@uuschenectady.org
SUMMARY:Walk in the Central Park Woods with Green Sanctuary
DESCRIPTION:Join the Green Sanctuary Team for an ECOS walk in the Central Park woods. Learn about native trees\, shrubs\, and perennials\, invasive species that threaten the forest’s health\, and restoration efforts that you can help with this Fall. For details\, including where to meet\, see https://ecosny.org/ecos-event/fall-walk-central-park-schenectady-2/ .
URL:https://uuschenectady.org/event/walk-in-the-central-park-woods-with-green-sanctuary/
LOCATION:Schenectady Central Park\, 500 Iroquois Way\, Schenectady\, NY\, 12309\, United States
END:VEVENT
BEGIN:VEVENT
DTSTART;TZID=America/New_York:20250824T103000
DTEND;TZID=America/New_York:20250824T113000
DTSTAMP:20260424T041320
CREATED:20250702T134120Z
LAST-MODIFIED:20250702T134444Z
UID:10000671-1756031400-1756035000@uuschenectady.org
SUMMARY:Worship service & Religious Education
DESCRIPTION:Worship services are held in the 1221 Wendell Avenue Great Hall sanctuary space and on Zoom. \nThe Summer Stars Religious Education programs for children ages 5 and up are in the 1221 Wendell Avenue K-1 classroom (next to the dining room). The nursery (next to the K-1 classroom) is open for children ages 5 and below. (Children are also welcome to stay with their parents/caregivers in the worship service). \nA description of each week’s worship service is at the top of the home page\, and a description of the Summer Stars program is in the “News and Notes” section of posts on the home page. \nFor more information contact UUSS at info at uuschenectady dot org or (518)374-4446.
URL:https://uuschenectady.org/event/worship-service-and-religious-education-programming/2025-08-24/
LOCATION:Unitarian Universalist Society of Schenectady\, 1221 Wendell Ave\, Schenectady\, NY\, 12308
END:VEVENT
BEGIN:VEVENT
DTSTART;TZID=America/New_York:20250831T103000
DTEND;TZID=America/New_York:20250831T113000
DTSTAMP:20260424T041320
CREATED:20250702T134120Z
LAST-MODIFIED:20250702T134444Z
UID:10000672-1756636200-1756639800@uuschenectady.org
SUMMARY:Worship service & Religious Education
DESCRIPTION:Worship services are held in the 1221 Wendell Avenue Great Hall sanctuary space and on Zoom. \nThe Summer Stars Religious Education programs for children ages 5 and up are in the 1221 Wendell Avenue K-1 classroom (next to the dining room). The nursery (next to the K-1 classroom) is open for children ages 5 and below. (Children are also welcome to stay with their parents/caregivers in the worship service). \nA description of each week’s worship service is at the top of the home page\, and a description of the Summer Stars program is in the “News and Notes” section of posts on the home page. \nFor more information contact UUSS at info at uuschenectady dot org or (518)374-4446.
URL:https://uuschenectady.org/event/worship-service-and-religious-education-programming/2025-08-31/
LOCATION:Unitarian Universalist Society of Schenectady\, 1221 Wendell Ave\, Schenectady\, NY\, 12308
END:VEVENT
END:VCALENDAR