BEGIN:VCALENDAR
VERSION:2.0
PRODID:-//Unitarian Universalist Society of Schenectady - ECPv6.15.20//NONSGML v1.0//EN
CALSCALE:GREGORIAN
METHOD:PUBLISH
X-ORIGINAL-URL:https://uuschenectady.org
X-WR-CALDESC:Events for Unitarian Universalist Society of Schenectady
REFRESH-INTERVAL;VALUE=DURATION:PT1H
X-Robots-Tag:noindex
X-PUBLISHED-TTL:PT1H
BEGIN:VTIMEZONE
TZID:America/New_York
BEGIN:DAYLIGHT
TZOFFSETFROM:-0500
TZOFFSETTO:-0400
TZNAME:EDT
DTSTART:20240310T070000
END:DAYLIGHT
BEGIN:STANDARD
TZOFFSETFROM:-0400
TZOFFSETTO:-0500
TZNAME:EST
DTSTART:20241103T060000
END:STANDARD
BEGIN:DAYLIGHT
TZOFFSETFROM:-0500
TZOFFSETTO:-0400
TZNAME:EDT
DTSTART:20250309T070000
END:DAYLIGHT
BEGIN:STANDARD
TZOFFSETFROM:-0400
TZOFFSETTO:-0500
TZNAME:EST
DTSTART:20251102T060000
END:STANDARD
BEGIN:DAYLIGHT
TZOFFSETFROM:-0500
TZOFFSETTO:-0400
TZNAME:EDT
DTSTART:20260308T070000
END:DAYLIGHT
BEGIN:STANDARD
TZOFFSETFROM:-0400
TZOFFSETTO:-0500
TZNAME:EST
DTSTART:20261101T060000
END:STANDARD
END:VTIMEZONE
BEGIN:VEVENT
DTSTART;TZID=America/New_York:20250504T120000
DTEND;TZID=America/New_York:20250504T130000
DTSTAMP:20260424T054504
CREATED:20250429T204250Z
LAST-MODIFIED:20250429T204250Z
UID:10000654-1746360000-1746363600@uuschenectady.org
SUMMARY:Storytelling for Justice Workshop
DESCRIPTION:Practice Advocacy at the Storytelling for Justice Workshop! \nOn Sunday\, May 4th from 12 p.m. – 1 p.m.\, join the Green Sanctuary Team and the Social Justice Action Team in the Dining Room for a Storytelling for Justice workshop! \nIn these challenging times\, our stories are our power\, and everyone has a story to tell! From healthcare to human rights\, climate to democracy\, a compelling story makes all forms of advocacy more effective\, whether we’re talking with our community or our legislators. \nAt this workshop\, you’ll hear stories and tips and get the chance to practice telling your own story. We’ll also share about how to get involved with upcoming federal and state social and environmental justice actions. Light refreshments will also be provided! \nIf you would like to participate in Beyond Plastic’s rally and advocacy day on May 7\, go to beyondplastics.org for an excellent description of the day and the bill they are endorsing\, the Packaging Reduction and Recycling Infrastructure Act. \n~Catherine Miller and Paula Shaw\, co-chairs of the Green Sanctuary Team
URL:https://uuschenectady.org/event/storytelling-for-justice-workshop/
LOCATION:Unitarian Universalist Society of Schenectady\, 1221 Wendell Ave\, Schenectady\, NY\, 12308
CATEGORIES:Green Sanctuary,Upcoming Event
END:VEVENT
END:VCALENDAR