BEGIN:VCALENDAR
VERSION:2.0
PRODID:-//Unitarian Universalist Society of Schenectady - ECPv6.15.20//NONSGML v1.0//EN
CALSCALE:GREGORIAN
METHOD:PUBLISH
X-ORIGINAL-URL:https://uuschenectady.org
X-WR-CALDESC:Events for Unitarian Universalist Society of Schenectady
REFRESH-INTERVAL;VALUE=DURATION:PT1H
X-Robots-Tag:noindex
X-PUBLISHED-TTL:PT1H
BEGIN:VTIMEZONE
TZID:America/New_York
BEGIN:DAYLIGHT
TZOFFSETFROM:-0500
TZOFFSETTO:-0400
TZNAME:EDT
DTSTART:20240310T070000
END:DAYLIGHT
BEGIN:STANDARD
TZOFFSETFROM:-0400
TZOFFSETTO:-0500
TZNAME:EST
DTSTART:20241103T060000
END:STANDARD
BEGIN:DAYLIGHT
TZOFFSETFROM:-0500
TZOFFSETTO:-0400
TZNAME:EDT
DTSTART:20250309T070000
END:DAYLIGHT
BEGIN:STANDARD
TZOFFSETFROM:-0400
TZOFFSETTO:-0500
TZNAME:EST
DTSTART:20251102T060000
END:STANDARD
BEGIN:DAYLIGHT
TZOFFSETFROM:-0500
TZOFFSETTO:-0400
TZNAME:EDT
DTSTART:20260308T070000
END:DAYLIGHT
BEGIN:STANDARD
TZOFFSETFROM:-0400
TZOFFSETTO:-0500
TZNAME:EST
DTSTART:20261101T060000
END:STANDARD
END:VTIMEZONE
BEGIN:VEVENT
DTSTART;TZID=America/New_York:20250720T103000
DTEND;TZID=America/New_York:20250720T113000
DTSTAMP:20260424T034735
CREATED:20250702T134120Z
LAST-MODIFIED:20250702T134444Z
UID:10000666-1753007400-1753011000@uuschenectady.org
SUMMARY:Worship service & Religious Education
DESCRIPTION:Worship services are held in the 1221 Wendell Avenue Great Hall sanctuary space and on Zoom. \nThe Summer Stars Religious Education programs for children ages 5 and up are in the 1221 Wendell Avenue K-1 classroom (next to the dining room). The nursery (next to the K-1 classroom) is open for children ages 5 and below. (Children are also welcome to stay with their parents/caregivers in the worship service). \nA description of each week’s worship service is at the top of the home page\, and a description of the Summer Stars program is in the “News and Notes” section of posts on the home page. \nFor more information contact UUSS at info at uuschenectady dot org or (518)374-4446.
URL:https://uuschenectady.org/event/worship-service-and-religious-education-programming/2025-07-20/
LOCATION:Unitarian Universalist Society of Schenectady\, 1221 Wendell Ave\, Schenectady\, NY\, 12308
END:VEVENT
BEGIN:VEVENT
DTSTART;TZID=America/New_York:20250713T103000
DTEND;TZID=America/New_York:20250713T113000
DTSTAMP:20260424T034735
CREATED:20250702T134120Z
LAST-MODIFIED:20250702T134444Z
UID:10000665-1752402600-1752406200@uuschenectady.org
SUMMARY:Worship service & Religious Education
DESCRIPTION:Worship services are held in the 1221 Wendell Avenue Great Hall sanctuary space and on Zoom. \nThe Summer Stars Religious Education programs for children ages 5 and up are in the 1221 Wendell Avenue K-1 classroom (next to the dining room). The nursery (next to the K-1 classroom) is open for children ages 5 and below. (Children are also welcome to stay with their parents/caregivers in the worship service). \nA description of each week’s worship service is at the top of the home page\, and a description of the Summer Stars program is in the “News and Notes” section of posts on the home page. \nFor more information contact UUSS at info at uuschenectady dot org or (518)374-4446.
URL:https://uuschenectady.org/event/worship-service-and-religious-education-programming/2025-07-13/
LOCATION:Unitarian Universalist Society of Schenectady\, 1221 Wendell Ave\, Schenectady\, NY\, 12308
END:VEVENT
BEGIN:VEVENT
DTSTART;TZID=America/New_York:20250628T113000
DTEND;TZID=America/New_York:20250628T133000
DTSTAMP:20260424T034735
CREATED:20250521T000005Z
LAST-MODIFIED:20250521T000005Z
UID:10000660-1751110200-1751117400@uuschenectady.org
SUMMARY:Hike around Peebles Island with the Green Sanctuary Team!
DESCRIPTION:SPRING INTO SUMMER with Green Sanctuary at Peebles Island State Park on Saturday\, JUNE 28\, 11:30 a.m. – 1:30 p.m. \nAll are welcome to enjoy nature and community at the Green Sanctuary Spring into Summer Outing! We’ll gather for a picnic lunch at 11:30 (bring your own lunch – you are welcome to bring a dessert to share!)\, then start the easy hike around the scenic confluence of the Mohawk and Hudson Rivers at 12:30 p.m. \nFor more information email info at uuschenectady dot org.
URL:https://uuschenectady.org/event/hike-around-peebles-island-with-the-green-sanctuary-team/
LOCATION:Unitarian Universalist Society of Schenectady\, 1221 Wendell Ave\, Schenectady\, NY\, 12308
END:VEVENT
BEGIN:VEVENT
DTSTART;TZID=America/New_York:20250623T180000
DTEND;TZID=America/New_York:20250623T190000
DTSTAMP:20260424T034735
CREATED:20250610T204655Z
LAST-MODIFIED:20250610T204655Z
UID:10000663-1750701600-1750705200@uuschenectady.org
SUMMARY:BIPOC Authors Book Group June Discussion: Queenie\, by Candice Carty-Williams
DESCRIPTION:We’re reading Queenie this month\, by Candice Carty-Williams – a Jamaican in America story. \nJoin us for the discussion on Monday\, June 23\, at 6 pm via Zoom \nEmail info at uuschenectady dot org during weekday business hours for Zoom info.
URL:https://uuschenectady.org/event/bipoc-authors-book-group-june-discussion-queenie-by-candice-carty-williams/
LOCATION:online
END:VEVENT
BEGIN:VEVENT
DTSTART;TZID=America/New_York:20250613T180000
DTEND;TZID=America/New_York:20250613T200000
DTSTAMP:20260424T034735
CREATED:20250430T205627Z
LAST-MODIFIED:20250430T205627Z
UID:10000656-1749837600-1749844800@uuschenectady.org
SUMMARY:Game Night!
DESCRIPTION:All are welcome to come play ping pong\, board games\, card games\, or just have conversation! We’ll have an array of games available\, as well as some snacks and lemonade. You are welcome to bring along a favorite game or snacks or dessert to share\, if you would like. If questions\, contact Kristin at info at uuschenectady dot org.
URL:https://uuschenectady.org/event/game-night-4/
LOCATION:Unitarian Universalist Society of Schenectady\, 1221 Wendell Ave\, Schenectady\, NY\, 12308
END:VEVENT
BEGIN:VEVENT
DTSTART;TZID=America/New_York:20250612T170000
DTEND;TZID=America/New_York:20250612T190000
DTSTAMP:20260424T034735
CREATED:20250523T183516Z
LAST-MODIFIED:20250523T183639Z
UID:10000661-1749747600-1749754800@uuschenectady.org
SUMMARY:Field Trip to the Albany Pine Bush (EBWA's June program)
DESCRIPTION:presenter: Jackie Citriniti\, Lead Educator\, Albany Pine Bush Preserve\, and member of UUSS\n(Bring your own bag supper and lawn chair for an informal picnic after the tour.) \nJoin us on June 12th at 5 pm for a visit to the Albany Pine Bush\, one of the best remaining examples of an inland pine barrens environment in the world. Jackie Citriniti will lead us on a tour of the exhibits inside the Discovery Center and then\, weather permitting\, on a short walk around the accessible loop in the Preserve or to the overlook. We will then gather for a brown bag supper and networking\, either inside the building or outside on our lawn chairs. \nPlease note: The program will be held rain or shine! \nJackie has been an enthusiastic environmental educator for more than 30 years. She has worked at the Albany Pine Bush for the past 18 years and has also worked at Five Rivers in Delmar and Moreau State Park. — All who identify as women are welcome to join us as we visit this unique education center and explore the Preserve. \nThe Pine Bush Preserve is located at 195 New Karner Road\, Albany. While there is ample parking\, if you would like to carpool\, please inform Peg Reich at pegreich1@gmail.com or 518-530-2111 by noon on June 12 th. We will meet in the church parking lot at 4:15 and leave no later than 4:30. \nThere is no charge for this program for EBWA sponsors; we will collect $5 from all others who attend. \nWe are working on the programs for the 2025-26 church year\, and will post the list in September.
URL:https://uuschenectady.org/event/field-trip-to-the-albany-pine-bush/
LOCATION:Albany Pine Bush Discovery Center\, 195 New Karner Rd.\, Albany\, NY\, United States
CATEGORIES:Evening Branch of the Women's Alliance,Upcoming Event
END:VEVENT
BEGIN:VEVENT
DTSTART;TZID=America/New_York:20250601T120000
DTEND;TZID=America/New_York:20250601T130000
DTSTAMP:20260424T034735
CREATED:20250513T203018Z
LAST-MODIFIED:20250513T203018Z
UID:10000659-1748779200-1748782800@uuschenectady.org
SUMMARY:Sundae Sunday
DESCRIPTION:During the worship service on Sunday June 1st\, UUSS will welcome new members into the congregation and honor the bridging of high school seniors as they transition to adulthood. Everyone is invited to stay after the service to celebrate together with a Sundae Sunday Ice Cream Social! \nTo help out with scooping ice cream or doing a bit of clean up\, click HERE to sign up. If questions\, email info at uuschenectady dot org
URL:https://uuschenectady.org/event/sundae-sunday-2/
LOCATION:Unitarian Universalist Society of Schenectady\, 1221 Wendell Ave\, Schenectady\, NY\, 12308
CATEGORIES:Upcoming Event
END:VEVENT
BEGIN:VEVENT
DTSTART;TZID=America/New_York:20250527T190000
DTEND;TZID=America/New_York:20250527T203000
DTSTAMP:20260424T034735
CREATED:20250505T152856Z
LAST-MODIFIED:20250505T153140Z
UID:10000657-1748372400-1748377800@uuschenectady.org
SUMMARY:Grief Group
DESCRIPTION:Grief is a human response to loss\, and includes a range of emotions\, including sadness\, anger\, overwhelm or numbness\, denial\, guilt\, and despair. If you are grieving\, you aren’t alone. If you have experienced a loss\, whether it be a relationship. a job\, a health change/diagnosis\, a death\, a loss of identity or meaning\, are grieving all that is going on in our country and world\, or something else\, you are welcome. There is a place for you. Join with Rev. Lynn and others for a time of care and mutual support.  If questions\, call (518)374-4446 or email info at uuschenectady dot org.
URL:https://uuschenectady.org/event/grief-group-12/
LOCATION:Unitarian Universalist Society of Schenectady\, 1221 Wendell Ave\, Schenectady\, NY\, 12308
CATEGORIES:Upcoming Event
END:VEVENT
BEGIN:VEVENT
DTSTART;TZID=America/New_York:20250515T190000
DTEND;TZID=America/New_York:20250515T203000
DTSTAMP:20260424T034735
CREATED:20250506T231246Z
LAST-MODIFIED:20250506T231246Z
UID:10000658-1747335600-1747341000@uuschenectady.org
SUMMARY:Thready Third Thursdays
DESCRIPTION:We’re bobbin along through spring\, and it’s totally time for you to do something good for your sewl! Come to Thready Third Thursdays on May 15\, from 7-8:30 PM in the Fireplace Room. \nWe welcome all stitchers\, crocheters\, knitters\, embroiderers\, and more for a friendly session of textile arts creation. Bring a project you’d like to work on and–PRO TIP–a headlamp. For more information\, contact info at uuschenectady dot org.
URL:https://uuschenectady.org/event/thready-third-thursdays-2/
LOCATION:Unitarian Universalist Society of Schenectady\, 1221 Wendell Ave\, Schenectady\, NY\, 12308
END:VEVENT
BEGIN:VEVENT
DTSTART;TZID=America/New_York:20250515T183000
DTEND;TZID=America/New_York:20250515T210000
DTSTAMP:20260424T034735
CREATED:20250429T204656Z
LAST-MODIFIED:20250429T204656Z
UID:10000655-1747333800-1747342800@uuschenectady.org
SUMMARY:EBWA Presents "100 Things to Do in Albany Before you Die"
DESCRIPTION:The Evening Branch of the Women’s Alliance (EBWA)’s May gathering features local author and photographer Sandra Foyt speaking on: \n“100 Things to Do in Albany Before you Die” \nMay 15\, 6:30-9pm\, in the church dining room \nWhat’s your favorite attraction in and around Albany? Join local author Sandra Foyt as she discusses her new guidebook\, 100 Things To Do In Albany Before You Die. Sandra will talk about bucket-list must-dos\, insider tips\, and hidden gems. Come prepared to play a fun game with a regional twist\, and to see her award-winning photography of local sites. Sandra is a travel photographer\, freelancer\, and content media producer. She also runs AlbanyTraveler.com\, a local travel blog\, and co-publishes GetawayMavens.com\, the romantic getaways guide.— All who identify as women are invited to join us for this intriguing program! \nRefreshments and time to socialize provided at 6:30. Program starts at 7. Questions and networking after the program. Please email Gabrielle Reals by Tuesday\, May 13\, to RSVP. Free for EBWA sponsors\, $5 at the door for others (walk-ins are welcome!) \nLooking ahead: On June 12 we will take a field trip to the Pine Bush Discovery Center. Details will appear in the June Circuits.
URL:https://uuschenectady.org/event/ebwa-presents-100-things-to-do-in-albany-before-you-die/
LOCATION:Unitarian Universalist Society of Schenectady\, 1221 Wendell Ave\, Schenectady\, NY\, 12308
CATEGORIES:Evening Branch of the Women's Alliance,Upcoming Event
END:VEVENT
BEGIN:VEVENT
DTSTART;TZID=America/New_York:20250504T120000
DTEND;TZID=America/New_York:20250504T130000
DTSTAMP:20260424T034735
CREATED:20250429T204250Z
LAST-MODIFIED:20250429T204250Z
UID:10000654-1746360000-1746363600@uuschenectady.org
SUMMARY:Storytelling for Justice Workshop
DESCRIPTION:Practice Advocacy at the Storytelling for Justice Workshop! \nOn Sunday\, May 4th from 12 p.m. – 1 p.m.\, join the Green Sanctuary Team and the Social Justice Action Team in the Dining Room for a Storytelling for Justice workshop! \nIn these challenging times\, our stories are our power\, and everyone has a story to tell! From healthcare to human rights\, climate to democracy\, a compelling story makes all forms of advocacy more effective\, whether we’re talking with our community or our legislators. \nAt this workshop\, you’ll hear stories and tips and get the chance to practice telling your own story. We’ll also share about how to get involved with upcoming federal and state social and environmental justice actions. Light refreshments will also be provided! \nIf you would like to participate in Beyond Plastic’s rally and advocacy day on May 7\, go to beyondplastics.org for an excellent description of the day and the bill they are endorsing\, the Packaging Reduction and Recycling Infrastructure Act. \n~Catherine Miller and Paula Shaw\, co-chairs of the Green Sanctuary Team
URL:https://uuschenectady.org/event/storytelling-for-justice-workshop/
LOCATION:Unitarian Universalist Society of Schenectady\, 1221 Wendell Ave\, Schenectady\, NY\, 12308
CATEGORIES:Green Sanctuary,Upcoming Event
END:VEVENT
END:VCALENDAR