BEGIN:VCALENDAR
VERSION:2.0
PRODID:-//Unitarian Universalist Society of Schenectady - ECPv6.15.20//NONSGML v1.0//EN
CALSCALE:GREGORIAN
METHOD:PUBLISH
X-ORIGINAL-URL:https://uuschenectady.org
X-WR-CALDESC:Events for Unitarian Universalist Society of Schenectady
REFRESH-INTERVAL;VALUE=DURATION:PT1H
X-Robots-Tag:noindex
X-PUBLISHED-TTL:PT1H
BEGIN:VTIMEZONE
TZID:America/New_York
BEGIN:DAYLIGHT
TZOFFSETFROM:-0500
TZOFFSETTO:-0400
TZNAME:EDT
DTSTART:20250309T070000
END:DAYLIGHT
BEGIN:STANDARD
TZOFFSETFROM:-0400
TZOFFSETTO:-0500
TZNAME:EST
DTSTART:20251102T060000
END:STANDARD
BEGIN:DAYLIGHT
TZOFFSETFROM:-0500
TZOFFSETTO:-0400
TZNAME:EDT
DTSTART:20260308T070000
END:DAYLIGHT
BEGIN:STANDARD
TZOFFSETFROM:-0400
TZOFFSETTO:-0500
TZNAME:EST
DTSTART:20261101T060000
END:STANDARD
BEGIN:DAYLIGHT
TZOFFSETFROM:-0500
TZOFFSETTO:-0400
TZNAME:EDT
DTSTART:20270314T070000
END:DAYLIGHT
BEGIN:STANDARD
TZOFFSETFROM:-0400
TZOFFSETTO:-0500
TZNAME:EST
DTSTART:20271107T060000
END:STANDARD
END:VTIMEZONE
BEGIN:VEVENT
DTSTART;TZID=America/New_York:20260419T103000
DTEND;TZID=America/New_York:20260419T120000
DTSTAMP:20260423T200613
CREATED:20260318T001212Z
LAST-MODIFIED:20260407T202357Z
UID:10000736-1776594600-1776600000@uuschenectady.org
SUMMARY:Hudson Mohawk Cluster Service April 19\, 2026\, 10:30am (at UU Schenectady & on Zoom)
DESCRIPTION:Join with UUs from our congregations in Albany\, Catskills\, Glens Falls\, Saratoga Springs\, and Schenectady as we welcome Rev. Cathy Rion Starr from the Side With Love staff for a service of resilience and joy! \nThe worship will include participants from each of the five congregations and fabulous music featuring the combined choirs. All ages welcome. Childcare and Religious Education activities included for kids and youth. \nWorship will be followed by time for connection\, with potluck finger-food refreshments. \nWorkshop 12:15 pm — Undermining Pillars of Support: 4th Amendment Wedge Strategy \nHow do we prevent an authoritarian administration from becoming full-on fascism? In this workshop we’ll: \n\nreview ways to undermine Pillars of Support and practice strategic non-cooperation\,\nexplore how UUs can help grow networks of 4th Amendment Workplaces to help employers and workers understand their rights if ICE arrives\,\nprovide training and materials to recruit local businesses in this work and build relationship within your congregation and community.\n\nA movie will be offered for kids to watch during the workshop. \nFor more information\, contact UUSS at info at uuschenectady dot org
URL:https://uuschenectady.org/event/hudson-mohawk-cluster-service-april-19-2026-1030am-at-uu-schenectady-on-zoom/
LOCATION:Unitarian Universalist Society of Schenectady\, 1221 Wendell Ave\, Schenectady\, NY\, 12308
CATEGORIES:Upcoming Event
END:VEVENT
BEGIN:VEVENT
DTSTART;TZID=America/New_York:20260422T153000
DTEND;TZID=America/New_York:20260422T163000
DTSTAMP:20260423T200613
CREATED:20260331T203836Z
LAST-MODIFIED:20260331T203836Z
UID:10000742-1776871800-1776875400@uuschenectady.org
SUMMARY:Mid-Day Meditations
DESCRIPTION:Beginning April 22\, join UUSS member and mindfulness Buddhist practitioner Tamara Geveci for shared in-person meditation and mindfulness practice. \nAll are welcome for any or all of the spring sessions\, which will be held in the Emerson Room\, or maybe outside\, if the weather allows! \nThis will be a time of connection through guided meditative and mindfulness practices\, as well as quiet\, reflective meditation. No previous meditation experience necessary. \nSessions run 3:30 -4:30 PM on Wednesdays\, April 22 through May 20\, in the Emerson Room.
URL:https://uuschenectady.org/event/mid-day-meditations/2026-04-22/
LOCATION:Unitarian Universalist Society of Schenectady\, 1221 Wendell Ave\, Schenectady\, NY\, 12308
CATEGORIES:Upcoming Event
END:VEVENT
BEGIN:VEVENT
DTSTART;TZID=America/New_York:20260425T100000
DTEND;TZID=America/New_York:20260425T120000
DTSTAMP:20260423T200613
CREATED:20260407T202711Z
LAST-MODIFIED:20260407T202711Z
UID:10000756-1777111200-1777118400@uuschenectady.org
SUMMARY:Gardens & Grounds Work Party
DESCRIPTION:As we prepare for our Mayfest CommUUnity Celebration on May 2\, we invite you to help get the UUSS gardens and grounds ready for our community and guests. \nThe Gardens Team has scheduled work parties on Saturday April 18 and Saturday April 25\, both from 10am until noon\, and anyone is welcome to join us. \nWe’ll be raking and mulching the planting beds on the patio\, the front plaza\, and at Waters House\, as well as cleaning up the grounds behind Waters House for kids’ activities. \nYou are encouraged to bring your own gardening gloves and rakes\, and we’ll also have some available. We should have an enjoyable time working together as we prepare our grounds to look their best! \nAny questions\, contact Ernie Hall or Mimi Katz by emailing info at uuschenectady dot org. Also\, if you’d like to be added to our Gardens Team mailing list\, please let Ernie and Mimi know.
URL:https://uuschenectady.org/event/gardens-grounds-work-party/2026-04-25/
LOCATION:Unitarian Universalist Society of Schenectady\, 1221 Wendell Ave\, Schenectady\, NY\, 12308
CATEGORIES:Upcoming Event
END:VEVENT
BEGIN:VEVENT
DTSTART;TZID=America/New_York:20260427T190000
DTEND;TZID=America/New_York:20260427T203000
DTSTAMP:20260423T200613
CREATED:20260414T215507Z
LAST-MODIFIED:20260414T215507Z
UID:10000757-1777316400-1777321800@uuschenectady.org
SUMMARY:Grief Group
DESCRIPTION:Grief is a human response to loss\, and includes a range of emotions\, including sadness\, anger\, overwhelm or numbness\, denial\, guilt\, and despair. If you are grieving\, you aren’t alone. If you have experienced a loss\, whether it be a relationship. a job\, a health change/diagnosis\, a death\, a loss of identity or meaning\, or something else\, you are welcome. There is a place for you. Join with Rev. Lynn and others for a time of care and mutual support. \nQuestions? Contact Rev. Lynn at info at uuschenectady dot org.
URL:https://uuschenectady.org/event/grief-group-3/
LOCATION:Unitarian Universalist Society of Schenectady\, 1221 Wendell Ave\, Schenectady\, NY\, 12308
CATEGORIES:Upcoming Event
END:VEVENT
BEGIN:VEVENT
DTSTART;TZID=America/New_York:20260429T153000
DTEND;TZID=America/New_York:20260429T163000
DTSTAMP:20260423T200613
CREATED:20260331T203836Z
LAST-MODIFIED:20260331T203836Z
UID:10000743-1777476600-1777480200@uuschenectady.org
SUMMARY:Mid-Day Meditations
DESCRIPTION:Beginning April 22\, join UUSS member and mindfulness Buddhist practitioner Tamara Geveci for shared in-person meditation and mindfulness practice. \nAll are welcome for any or all of the spring sessions\, which will be held in the Emerson Room\, or maybe outside\, if the weather allows! \nThis will be a time of connection through guided meditative and mindfulness practices\, as well as quiet\, reflective meditation. No previous meditation experience necessary. \nSessions run 3:30 -4:30 PM on Wednesdays\, April 22 through May 20\, in the Emerson Room.
URL:https://uuschenectady.org/event/mid-day-meditations/2026-04-29/
LOCATION:Unitarian Universalist Society of Schenectady\, 1221 Wendell Ave\, Schenectady\, NY\, 12308
CATEGORIES:Upcoming Event
END:VEVENT
BEGIN:VEVENT
DTSTART;TZID=America/New_York:20260506T153000
DTEND;TZID=America/New_York:20260506T163000
DTSTAMP:20260423T200613
CREATED:20260331T203836Z
LAST-MODIFIED:20260331T203836Z
UID:10000744-1778081400-1778085000@uuschenectady.org
SUMMARY:Mid-Day Meditations
DESCRIPTION:Beginning April 22\, join UUSS member and mindfulness Buddhist practitioner Tamara Geveci for shared in-person meditation and mindfulness practice. \nAll are welcome for any or all of the spring sessions\, which will be held in the Emerson Room\, or maybe outside\, if the weather allows! \nThis will be a time of connection through guided meditative and mindfulness practices\, as well as quiet\, reflective meditation. No previous meditation experience necessary. \nSessions run 3:30 -4:30 PM on Wednesdays\, April 22 through May 20\, in the Emerson Room.
URL:https://uuschenectady.org/event/mid-day-meditations/2026-05-06/
LOCATION:Unitarian Universalist Society of Schenectady\, 1221 Wendell Ave\, Schenectady\, NY\, 12308
CATEGORIES:Upcoming Event
END:VEVENT
BEGIN:VEVENT
DTSTART;TZID=America/New_York:20260513T153000
DTEND;TZID=America/New_York:20260513T163000
DTSTAMP:20260423T200613
CREATED:20260331T203836Z
LAST-MODIFIED:20260331T203836Z
UID:10000745-1778686200-1778689800@uuschenectady.org
SUMMARY:Mid-Day Meditations
DESCRIPTION:Beginning April 22\, join UUSS member and mindfulness Buddhist practitioner Tamara Geveci for shared in-person meditation and mindfulness practice. \nAll are welcome for any or all of the spring sessions\, which will be held in the Emerson Room\, or maybe outside\, if the weather allows! \nThis will be a time of connection through guided meditative and mindfulness practices\, as well as quiet\, reflective meditation. No previous meditation experience necessary. \nSessions run 3:30 -4:30 PM on Wednesdays\, April 22 through May 20\, in the Emerson Room.
URL:https://uuschenectady.org/event/mid-day-meditations/2026-05-13/
LOCATION:Unitarian Universalist Society of Schenectady\, 1221 Wendell Ave\, Schenectady\, NY\, 12308
CATEGORIES:Upcoming Event
END:VEVENT
BEGIN:VEVENT
DTSTART;TZID=America/New_York:20260520T153000
DTEND;TZID=America/New_York:20260520T163000
DTSTAMP:20260423T200613
CREATED:20260331T203836Z
LAST-MODIFIED:20260331T203836Z
UID:10000746-1779291000-1779294600@uuschenectady.org
SUMMARY:Mid-Day Meditations
DESCRIPTION:Beginning April 22\, join UUSS member and mindfulness Buddhist practitioner Tamara Geveci for shared in-person meditation and mindfulness practice. \nAll are welcome for any or all of the spring sessions\, which will be held in the Emerson Room\, or maybe outside\, if the weather allows! \nThis will be a time of connection through guided meditative and mindfulness practices\, as well as quiet\, reflective meditation. No previous meditation experience necessary. \nSessions run 3:30 -4:30 PM on Wednesdays\, April 22 through May 20\, in the Emerson Room.
URL:https://uuschenectady.org/event/mid-day-meditations/2026-05-20/
LOCATION:Unitarian Universalist Society of Schenectady\, 1221 Wendell Ave\, Schenectady\, NY\, 12308
CATEGORIES:Upcoming Event
END:VEVENT
END:VCALENDAR