BEGIN:VCALENDAR
VERSION:2.0
PRODID:-//Unitarian Universalist Society of Schenectady - ECPv6.15.20//NONSGML v1.0//EN
CALSCALE:GREGORIAN
METHOD:PUBLISH
X-ORIGINAL-URL:https://uuschenectady.org
X-WR-CALDESC:Events for Unitarian Universalist Society of Schenectady
REFRESH-INTERVAL;VALUE=DURATION:PT1H
X-Robots-Tag:noindex
X-PUBLISHED-TTL:PT1H
BEGIN:VTIMEZONE
TZID:America/New_York
BEGIN:DAYLIGHT
TZOFFSETFROM:-0500
TZOFFSETTO:-0400
TZNAME:EDT
DTSTART:20250309T070000
END:DAYLIGHT
BEGIN:STANDARD
TZOFFSETFROM:-0400
TZOFFSETTO:-0500
TZNAME:EST
DTSTART:20251102T060000
END:STANDARD
BEGIN:DAYLIGHT
TZOFFSETFROM:-0500
TZOFFSETTO:-0400
TZNAME:EDT
DTSTART:20260308T070000
END:DAYLIGHT
BEGIN:STANDARD
TZOFFSETFROM:-0400
TZOFFSETTO:-0500
TZNAME:EST
DTSTART:20261101T060000
END:STANDARD
BEGIN:DAYLIGHT
TZOFFSETFROM:-0500
TZOFFSETTO:-0400
TZNAME:EDT
DTSTART:20270314T070000
END:DAYLIGHT
BEGIN:STANDARD
TZOFFSETFROM:-0400
TZOFFSETTO:-0500
TZNAME:EST
DTSTART:20271107T060000
END:STANDARD
END:VTIMEZONE
BEGIN:VEVENT
DTSTART;TZID=America/New_York:20260329T120000
DTEND;TZID=America/New_York:20260329T130000
DTSTAMP:20260423T200147
CREATED:20260318T000803Z
LAST-MODIFIED:20260318T000803Z
UID:10000735-1774785600-1774789200@uuschenectady.org
SUMMARY:RE Families Lunch with the DLRE
DESCRIPTION:There will be an RE Family Lunch after the service on Sunday\, 3/29. Two soups will be provided with potluck sides or desserts welcome. We are excited to have RE families new and old share conversation\, connection\, and nourishment. Please fill out the registration form to help us to plan for food. If you are able to attend and have not filled out the form\, we are excited for your family to attend as well! \nIf you have any questions about the Religious Education or Adult Faith Development Programs at UUSS\, I’d love to hear from you at info at uuschenectady dot org.\n— Director of Lifespan Religious Education\, Jamie Gargano.
URL:https://uuschenectady.org/event/re-families-lunch-with-the-dlre/
LOCATION:Unitarian Universalist Society of Schenectady\, 1221 Wendell Ave\, Schenectady\, NY\, 12308
CATEGORIES:Upcoming Event
END:VEVENT
END:VCALENDAR