BEGIN:VCALENDAR
VERSION:2.0
PRODID:-//Unitarian Universalist Society of Schenectady - ECPv6.15.20//NONSGML v1.0//EN
CALSCALE:GREGORIAN
METHOD:PUBLISH
X-ORIGINAL-URL:https://uuschenectady.org
X-WR-CALDESC:Events for Unitarian Universalist Society of Schenectady
REFRESH-INTERVAL;VALUE=DURATION:PT1H
X-Robots-Tag:noindex
X-PUBLISHED-TTL:PT1H
BEGIN:VTIMEZONE
TZID:America/New_York
BEGIN:DAYLIGHT
TZOFFSETFROM:-0500
TZOFFSETTO:-0400
TZNAME:EDT
DTSTART:20250309T070000
END:DAYLIGHT
BEGIN:STANDARD
TZOFFSETFROM:-0400
TZOFFSETTO:-0500
TZNAME:EST
DTSTART:20251102T060000
END:STANDARD
BEGIN:DAYLIGHT
TZOFFSETFROM:-0500
TZOFFSETTO:-0400
TZNAME:EDT
DTSTART:20260308T070000
END:DAYLIGHT
BEGIN:STANDARD
TZOFFSETFROM:-0400
TZOFFSETTO:-0500
TZNAME:EST
DTSTART:20261101T060000
END:STANDARD
BEGIN:DAYLIGHT
TZOFFSETFROM:-0500
TZOFFSETTO:-0400
TZNAME:EDT
DTSTART:20270314T070000
END:DAYLIGHT
BEGIN:STANDARD
TZOFFSETFROM:-0400
TZOFFSETTO:-0500
TZNAME:EST
DTSTART:20271107T060000
END:STANDARD
END:VTIMEZONE
BEGIN:VEVENT
DTSTART;TZID=America/New_York:20260305T120000
DTEND;TZID=America/New_York:20260305T133000
DTSTAMP:20260423T201251
CREATED:20260303T000933Z
LAST-MODIFIED:20260303T000933Z
UID:10000723-1772712000-1772717400@uuschenectady.org
SUMMARY:Daytime Alliance Luncheon with guest speaker from Refugee & Immigrant Services
DESCRIPTION:Since 2007\, RISSE — Refugee & Immigrant Support Services of Emmaus — has been helping refugees in Albany find housing\, jobs\, education and other services so that they can thrive here in their new home. On Thursday\, March 5\, come hear how the current political and economic environment is affecting these vital programs from RISSE Executive Director Daniel Butterworth. \nThe Daytime Alliance invites everyone to enjoy lunch together in the church dining room at 12 noon on Thursday\, March 5\, followed by Mr. Butterworth’s presentation at 1:00 pm. Lunch will be provided by a new caterer this month\, Sandye’s Cafe & Cakes\, featuring pasta with alfredo sauce and chicken and broccoli on the side\, tossed salad\, and cookies for $20\, payable at the door in cash or check. \nPLEASE RSVP by Monday\, March 2 by contacting Nancy Bogdanowicz
URL:https://uuschenectady.org/event/daytime-alliance-luncheon-with-guest-speaker-from-refugee-immigrant-services/
LOCATION:Unitarian Universalist Society of Schenectady\, 1221 Wendell Ave\, Schenectady\, NY\, 12308
CATEGORIES:Upcoming Event
END:VEVENT
END:VCALENDAR