BEGIN:VCALENDAR
VERSION:2.0
PRODID:-//Unitarian Universalist Society of Schenectady - ECPv6.15.20//NONSGML v1.0//EN
CALSCALE:GREGORIAN
METHOD:PUBLISH
X-ORIGINAL-URL:https://uuschenectady.org
X-WR-CALDESC:Events for Unitarian Universalist Society of Schenectady
REFRESH-INTERVAL;VALUE=DURATION:PT1H
X-Robots-Tag:noindex
X-PUBLISHED-TTL:PT1H
BEGIN:VTIMEZONE
TZID:America/New_York
BEGIN:DAYLIGHT
TZOFFSETFROM:-0500
TZOFFSETTO:-0400
TZNAME:EDT
DTSTART:20250309T070000
END:DAYLIGHT
BEGIN:STANDARD
TZOFFSETFROM:-0400
TZOFFSETTO:-0500
TZNAME:EST
DTSTART:20251102T060000
END:STANDARD
BEGIN:DAYLIGHT
TZOFFSETFROM:-0500
TZOFFSETTO:-0400
TZNAME:EDT
DTSTART:20260308T070000
END:DAYLIGHT
BEGIN:STANDARD
TZOFFSETFROM:-0400
TZOFFSETTO:-0500
TZNAME:EST
DTSTART:20261101T060000
END:STANDARD
BEGIN:DAYLIGHT
TZOFFSETFROM:-0500
TZOFFSETTO:-0400
TZNAME:EDT
DTSTART:20270314T070000
END:DAYLIGHT
BEGIN:STANDARD
TZOFFSETFROM:-0400
TZOFFSETTO:-0500
TZNAME:EST
DTSTART:20271107T060000
END:STANDARD
END:VTIMEZONE
BEGIN:VEVENT
DTSTART;TZID=America/New_York:20260118T120000
DTEND;TZID=America/New_York:20260118T140000
DTSTAMP:20260424T000036
CREATED:20260106T212151Z
LAST-MODIFIED:20260113T214704Z
UID:10000711-1768737600-1768744800@uuschenectady.org
SUMMARY:Meet the Moment Potluck Lunch & Program
DESCRIPTION:Meet the Moment is a framework created by the Unitarian Universalist Association (UUA) for collective conversation\, discernment\, and strategizing about how our faith can be its most impactful in the context of new realities for Unitarian Universalism\, religious life in North America\, and the geopolitical landscape. \nWe will nourish our bodies with a potluck lunch. And\, we will nourish our relationships with deep conversations guided by three questions intended for us to learn more about ourselves and one another\, deepen our Unitarian Universalist identity\, and strategize about what collective gifts and resources we have and how we might employ them effectively and meaningfully in alignment with our faith and our UUSS mission. We hope to see you there! – Rev. Lynn and Rev. Wendy
URL:https://uuschenectady.org/event/meet-the-moment/
LOCATION:Unitarian Universalist Society of Schenectady\, 1221 Wendell Ave\, Schenectady\, NY\, 12308
CATEGORIES:Upcoming Event
END:VEVENT
END:VCALENDAR