BEGIN:VCALENDAR
VERSION:2.0
PRODID:-//Unitarian Universalist Society of Schenectady - ECPv6.15.20//NONSGML v1.0//EN
CALSCALE:GREGORIAN
METHOD:PUBLISH
X-ORIGINAL-URL:https://uuschenectady.org
X-WR-CALDESC:Events for Unitarian Universalist Society of Schenectady
REFRESH-INTERVAL;VALUE=DURATION:PT1H
X-Robots-Tag:noindex
X-PUBLISHED-TTL:PT1H
BEGIN:VTIMEZONE
TZID:America/New_York
BEGIN:DAYLIGHT
TZOFFSETFROM:-0500
TZOFFSETTO:-0400
TZNAME:EDT
DTSTART:20240310T070000
END:DAYLIGHT
BEGIN:STANDARD
TZOFFSETFROM:-0400
TZOFFSETTO:-0500
TZNAME:EST
DTSTART:20241103T060000
END:STANDARD
BEGIN:DAYLIGHT
TZOFFSETFROM:-0500
TZOFFSETTO:-0400
TZNAME:EDT
DTSTART:20250309T070000
END:DAYLIGHT
BEGIN:STANDARD
TZOFFSETFROM:-0400
TZOFFSETTO:-0500
TZNAME:EST
DTSTART:20251102T060000
END:STANDARD
BEGIN:DAYLIGHT
TZOFFSETFROM:-0500
TZOFFSETTO:-0400
TZNAME:EDT
DTSTART:20260308T070000
END:DAYLIGHT
BEGIN:STANDARD
TZOFFSETFROM:-0400
TZOFFSETTO:-0500
TZNAME:EST
DTSTART:20261101T060000
END:STANDARD
END:VTIMEZONE
BEGIN:VEVENT
DTSTART;TZID=America/New_York:20251104T153000
DTEND;TZID=America/New_York:20251104T163000
DTSTAMP:20260424T035410
CREATED:20251009T142454Z
LAST-MODIFIED:20251009T142454Z
UID:10000690-1762270200-1762273800@uuschenectady.org
SUMMARY:Mid-Week Meditation
DESCRIPTION:Join UU Schenectady member and mindfulness Buddhist practitioner Tamara Geveci for five sessions of shared in-person meditation and mindfulness practice. This will be a time of connection through guided sitting meditation\, walking/moving meditation and a short\, silent meditation. No previous meditation experience necessary. \nAll are welcome for any or all of the Fall sessions in the Emerson Room (or outside if the weather allows). These are drop-in sessions\, so no registration is required. \nQuestions? Contact UUSS at info at uuschenectady dot org
URL:https://uuschenectady.org/event/mid-week-meditation/2025-11-04/
LOCATION:Unitarian Universalist Society of Schenectady\, 1221 Wendell Ave\, Schenectady\, NY\, 12308
CATEGORIES:Upcoming Event
END:VEVENT
END:VCALENDAR