BEGIN:VCALENDAR
VERSION:2.0
PRODID:-//Unitarian Universalist Society of Schenectady - ECPv6.15.20//NONSGML v1.0//EN
CALSCALE:GREGORIAN
METHOD:PUBLISH
X-ORIGINAL-URL:https://uuschenectady.org
X-WR-CALDESC:Events for Unitarian Universalist Society of Schenectady
REFRESH-INTERVAL;VALUE=DURATION:PT1H
X-Robots-Tag:noindex
X-PUBLISHED-TTL:PT1H
BEGIN:VTIMEZONE
TZID:America/New_York
BEGIN:DAYLIGHT
TZOFFSETFROM:-0500
TZOFFSETTO:-0400
TZNAME:EDT
DTSTART:20240310T070000
END:DAYLIGHT
BEGIN:STANDARD
TZOFFSETFROM:-0400
TZOFFSETTO:-0500
TZNAME:EST
DTSTART:20241103T060000
END:STANDARD
BEGIN:DAYLIGHT
TZOFFSETFROM:-0500
TZOFFSETTO:-0400
TZNAME:EDT
DTSTART:20250309T070000
END:DAYLIGHT
BEGIN:STANDARD
TZOFFSETFROM:-0400
TZOFFSETTO:-0500
TZNAME:EST
DTSTART:20251102T060000
END:STANDARD
BEGIN:DAYLIGHT
TZOFFSETFROM:-0500
TZOFFSETTO:-0400
TZNAME:EDT
DTSTART:20260308T070000
END:DAYLIGHT
BEGIN:STANDARD
TZOFFSETFROM:-0400
TZOFFSETTO:-0500
TZNAME:EST
DTSTART:20261101T060000
END:STANDARD
END:VTIMEZONE
BEGIN:VEVENT
DTSTART;TZID=America/New_York:20251104T153000
DTEND;TZID=America/New_York:20251104T163000
DTSTAMP:20260424T015920
CREATED:20251009T142454Z
LAST-MODIFIED:20251009T142454Z
UID:10000690-1762270200-1762273800@uuschenectady.org
SUMMARY:Mid-Week Meditation
DESCRIPTION:Join UU Schenectady member and mindfulness Buddhist practitioner Tamara Geveci for five sessions of shared in-person meditation and mindfulness practice. This will be a time of connection through guided sitting meditation\, walking/moving meditation and a short\, silent meditation. No previous meditation experience necessary. \nAll are welcome for any or all of the Fall sessions in the Emerson Room (or outside if the weather allows). These are drop-in sessions\, so no registration is required. \nQuestions? Contact UUSS at info at uuschenectady dot org
URL:https://uuschenectady.org/event/mid-week-meditation/2025-11-04/
LOCATION:Unitarian Universalist Society of Schenectady\, 1221 Wendell Ave\, Schenectady\, NY\, 12308
CATEGORIES:Upcoming Event
END:VEVENT
BEGIN:VEVENT
DTSTART;TZID=America/New_York:20251106T120000
DTEND;TZID=America/New_York:20251106T140000
DTSTAMP:20260424T015920
CREATED:20251028T200830Z
LAST-MODIFIED:20251028T200830Z
UID:10000696-1762430400-1762437600@uuschenectady.org
SUMMARY:"The 8th Step Coffeehouse:  Music\, Social Justice and Community" from Margie Rosenkranz.
DESCRIPTION:Please join us for this Daytime Alliance event starting at 12 noon with an hour of food and conversation with a hot catered lunch from Gershon’s for $20 (payable by cash or check at the door). The presentation starts at 1:00 pm. \nMargie Rosenkranz has been managing artistic director of The Eighth Step Coffeehouse since 1987\, working with such artists as Janis Ian\, Utah Philips\, Tom Paxton\, Ani DiFranco\, cellist Janos Starker\, Richie Havens\, and Ireland’s Bard of Peace Tommy Sands. She will speak of the Eighth Step’s evolution from a basement coffeehouse started by Albany’s FOCUS churches in 1967\, to a presenter of major folk/acoustic artists\, and its residency at Proctors from 2007 to the present. Emphasis will be on social justice work\, the Step’s relationship with the sloop Clearwater\, Jackie Alpher and Pete Seeger.  Woven throughout will be anecdotes and stories from Margie’s work\, memorable artists\, concerts and other music/arts events. \nAll are welcome but PLEASE RSVP by November 3\, by contacting Nancy Bogdanowicz. \nALSO: Mark your calendar now for our annual\, super-fun Holiday Stocking Stuffer event & lunch on Thursday\, December 4\, in the church dining room starting at 11 AM — to benefit local needy children and families served by the Sycamore Collaborative. (Details to follow\, and the collection of toothbrushes\, toothpaste\, kids’ warm hats and mittens plus all types of small toys will start on Sunday\, Nov. 9.)
URL:https://uuschenectady.org/event/the-8th-step-coffeehouse-music-social-justice-and-community-from-margie-rosenkranz/
LOCATION:Unitarian Universalist Society of Schenectady\, 1221 Wendell Ave\, Schenectady\, NY\, 12308
CATEGORIES:Upcoming Event
END:VEVENT
BEGIN:VEVENT
DTSTART;TZID=America/New_York:20251111T153000
DTEND;TZID=America/New_York:20251111T163000
DTSTAMP:20260424T015920
CREATED:20251009T142454Z
LAST-MODIFIED:20251009T142454Z
UID:10000691-1762875000-1762878600@uuschenectady.org
SUMMARY:Mid-Week Meditation
DESCRIPTION:Join UU Schenectady member and mindfulness Buddhist practitioner Tamara Geveci for five sessions of shared in-person meditation and mindfulness practice. This will be a time of connection through guided sitting meditation\, walking/moving meditation and a short\, silent meditation. No previous meditation experience necessary. \nAll are welcome for any or all of the Fall sessions in the Emerson Room (or outside if the weather allows). These are drop-in sessions\, so no registration is required. \nQuestions? Contact UUSS at info at uuschenectady dot org
URL:https://uuschenectady.org/event/mid-week-meditation/2025-11-11/
LOCATION:Unitarian Universalist Society of Schenectady\, 1221 Wendell Ave\, Schenectady\, NY\, 12308
CATEGORIES:Upcoming Event
END:VEVENT
BEGIN:VEVENT
DTSTART;TZID=America/New_York:20251118T153000
DTEND;TZID=America/New_York:20251118T163000
DTSTAMP:20260424T015920
CREATED:20251009T142454Z
LAST-MODIFIED:20251009T142454Z
UID:10000692-1763479800-1763483400@uuschenectady.org
SUMMARY:Mid-Week Meditation
DESCRIPTION:Join UU Schenectady member and mindfulness Buddhist practitioner Tamara Geveci for five sessions of shared in-person meditation and mindfulness practice. This will be a time of connection through guided sitting meditation\, walking/moving meditation and a short\, silent meditation. No previous meditation experience necessary. \nAll are welcome for any or all of the Fall sessions in the Emerson Room (or outside if the weather allows). These are drop-in sessions\, so no registration is required. \nQuestions? Contact UUSS at info at uuschenectady dot org
URL:https://uuschenectady.org/event/mid-week-meditation/2025-11-18/
LOCATION:Unitarian Universalist Society of Schenectady\, 1221 Wendell Ave\, Schenectady\, NY\, 12308
CATEGORIES:Upcoming Event
END:VEVENT
BEGIN:VEVENT
DTSTART;TZID=America/New_York:20251120T183000
DTEND;TZID=America/New_York:20251120T210000
DTSTAMP:20260424T015920
CREATED:20251104T170601Z
LAST-MODIFIED:20251112T191620Z
UID:10000697-1763663400-1763672400@uuschenectady.org
SUMMARY:EBWA Program for November: Communication for Connection
DESCRIPTION:“Communication for Connection”—November 20\, 6:30-9pm\, in the church dining room\nSpeaker: Wendy Miller\, Mediator and conflict coach \nLong-time EBWA member Wendy Miller will speak to us about Non-Violent Communication\, the brainchild of Marshall B. Rosenberg. According to Wendy\, “Rosenberg was curious about what fuels conflict and how it might be addressed differently.  The approach he developed is quite simple in format and yet has been shown to be incredibly effective in resolving the most complicated conflicts interpersonally and in war-torn countries.  It requires observation without judgment\, an understanding of our own feelings and needs\, and an intention to be authentic and compassionate.” — All who identify as women are invited to come to EBWA (the Evening Branch of the Women’s Alliance) to learn how to speak so that you are heard and how to listen so that others may have that same experience. \nWe will serve coffee\, tea\, and dessert before the program.  We urge you to arrive by 6:30 pm for time to socialize before the program begins at 7 pm. Following the presentation\, there will be time for questions. Networking (when each person may share something of interest with the group) will begin around 8:15\, and the meeting will end no later than 9 pm. \nWhile reservations are not required\, in order to have some idea of how many people to expect\, it would be helpful if you would email Gabrielle Reals at ellegr3@gmail.com  by Tuesday\, November 18\, to let her know you are coming.  (If you forget to do this\, we urge you to come anyway!)  As a reminder\, in order for us to be able to pay our speakers an honorarium\, we need your help.  Please consider subscribing by bringing a $30 check made out to EBWA to the upcoming meeting (or contact Carol Furman at cfurm13@gmail.com to learn where to send\nyour check).  Those who have subscribed may attend the in-person meetings for free.  All others will be asked to contribute $5 toward our costs\, at the door. \nTo see the full calendar of EBWA programs for 2025-2026\, click here. (Note that the January & February EBWA Programs will be online only.) \nLooking ahead: On December 4th we will join with the Daytime Alliance\, 11:45-2:00 pm for their Holiday Stocking Stuffer event and luncheon\, with a speaker from the Regional Food Bank. Bring small items for children ages 3-12\, such as toothpaste\, toothbrushes\, children’s winter hats and mittens\, small stuffed animals\, toys books\, stickers\, and art/craft supplies to the Nov. 20 EBWA meeting\, or drop them off at the church after checking in with Lillian at info@uuschenectady.org to be sure she will be there to open the door.
URL:https://uuschenectady.org/event/ebwa-program-for-november-communication-for-connection/
LOCATION:Unitarian Universalist Society of Schenectady\, 1221 Wendell Ave\, Schenectady\, NY\, 12308
CATEGORIES:Evening Branch of the Women's Alliance,Upcoming Event
END:VEVENT
BEGIN:VEVENT
DTSTART;TZID=America/New_York:20251130T113000
DTEND;TZID=America/New_York:20251130T123000
DTSTAMP:20260424T015920
CREATED:20251121T151535Z
LAST-MODIFIED:20251121T151535Z
UID:10000704-1764502200-1764505800@uuschenectady.org
SUMMARY:Deck the Hall!
DESCRIPTION:All are invited to help decorate for winter holidays! John Harpis will coordinate hanging wreaths\, decorating mantles\, and setting up Christmas trees. Questions? Contact Church Administrator Lillian Johnson at info at uuschenectady dot org
URL:https://uuschenectady.org/event/deck-the-hall/
LOCATION:Unitarian Universalist Society of Schenectady\, 1221 Wendell Ave\, Schenectady\, NY\, 12308
CATEGORIES:Upcoming Event
END:VEVENT
END:VCALENDAR