BEGIN:VCALENDAR
VERSION:2.0
PRODID:-//Unitarian Universalist Society of Schenectady - ECPv6.15.20//NONSGML v1.0//EN
CALSCALE:GREGORIAN
METHOD:PUBLISH
X-ORIGINAL-URL:https://uuschenectady.org
X-WR-CALDESC:Events for Unitarian Universalist Society of Schenectady
REFRESH-INTERVAL;VALUE=DURATION:PT1H
X-Robots-Tag:noindex
X-PUBLISHED-TTL:PT1H
BEGIN:VTIMEZONE
TZID:America/New_York
BEGIN:DAYLIGHT
TZOFFSETFROM:-0500
TZOFFSETTO:-0400
TZNAME:EDT
DTSTART:20240310T070000
END:DAYLIGHT
BEGIN:STANDARD
TZOFFSETFROM:-0400
TZOFFSETTO:-0500
TZNAME:EST
DTSTART:20241103T060000
END:STANDARD
BEGIN:DAYLIGHT
TZOFFSETFROM:-0500
TZOFFSETTO:-0400
TZNAME:EDT
DTSTART:20250309T070000
END:DAYLIGHT
BEGIN:STANDARD
TZOFFSETFROM:-0400
TZOFFSETTO:-0500
TZNAME:EST
DTSTART:20251102T060000
END:STANDARD
BEGIN:DAYLIGHT
TZOFFSETFROM:-0500
TZOFFSETTO:-0400
TZNAME:EDT
DTSTART:20260308T070000
END:DAYLIGHT
BEGIN:STANDARD
TZOFFSETFROM:-0400
TZOFFSETTO:-0500
TZNAME:EST
DTSTART:20261101T060000
END:STANDARD
BEGIN:DAYLIGHT
TZOFFSETFROM:-0500
TZOFFSETTO:-0400
TZNAME:EDT
DTSTART:20270314T070000
END:DAYLIGHT
BEGIN:STANDARD
TZOFFSETFROM:-0400
TZOFFSETTO:-0500
TZNAME:EST
DTSTART:20271107T060000
END:STANDARD
END:VTIMEZONE
BEGIN:VEVENT
DTSTART;TZID=America/New_York:20250928T120000
DTEND;TZID=America/New_York:20250928T130000
DTSTAMP:20260425T111733
CREATED:20250909T213223Z
LAST-MODIFIED:20250909T213223Z
UID:10000680-1759060800-1759064400@uuschenectady.org
SUMMARY:Locavore Lunch
DESCRIPTION:This is our annual celebration of the harvest\, where we enjoy delicious local foods and celebrate our congregation’s dedication to the Earth. All are welcome! Free-will donations benefit UU Schenectady. \nVolunteers always deeply appreciated – bring a dish\, cook\, or help us set up or clean up! You can use our online sign-up
URL:https://uuschenectady.org/event/locavore-lunch-2/
LOCATION:Unitarian Universalist Society of Schenectady\, 1221 Wendell Ave\, Schenectady\, NY\, 12308
CATEGORIES:Green Sanctuary,Upcoming Event
END:VEVENT
BEGIN:VEVENT
DTSTART;TZID=America/New_York:20260408T180000
DTEND;TZID=America/New_York:20260408T200000
DTSTAMP:20260425T111733
CREATED:20260331T163006Z
LAST-MODIFIED:20260407T203021Z
UID:10000740-1775671200-1775678400@uuschenectady.org
SUMMARY:The Gift of Seeds - An evening of Community\, Connection and Seeds!
DESCRIPTION:Over a year ago\, Fruition Seeds in Naples\, NY\, chose to shift away from consumerism and embrace gift economy practices. All flourishing is mutual\, as Robin Wall Kimmerer reminds us\, and seeds brilliantly embody this generosity\, creativity and care. \nJoin with members of the Survive and Thrive Team and Petra Page-Mann of Fruition Seeds to practice receiving hundreds of varieties of regionally adapted vegetable and flower seeds as gifts\, cultivating gift culture as well as community. Come ready to reflect\, connect and honor your gifts  as we all learn to amplify the gifts of community together. Expect puppets! And lots of seeds! And to come alive as we explore living in ways both old and new. Bring a friend and hunger to sow more fruitful futures for your family\, friends\, neighbors and strangers as well as all generations yet to come. \nQuestions? Contact UUSS at info at uuschenectady dot org or (518)374-4446.
URL:https://uuschenectady.org/event/the-gift-of-seeds-an-evening-of-community-connection-and-seeds/
LOCATION:Unitarian Universalist Society of Schenectady\, 1221 Wendell Ave\, Schenectady\, NY\, 12308
CATEGORIES:Green Sanctuary,Upcoming Event
END:VEVENT
END:VCALENDAR